BEGIN:VCALENDAR
VERSION:2.0
PRODID:-//W9SRC - ECPv6.15.20//NONSGML v1.0//EN
CALSCALE:GREGORIAN
METHOD:PUBLISH
X-WR-CALNAME:W9SRC
X-ORIGINAL-URL:https://w9src.org
X-WR-CALDESC:Events for W9SRC
REFRESH-INTERVAL;VALUE=DURATION:PT1H
X-Robots-Tag:noindex
X-PUBLISHED-TTL:PT1H
BEGIN:VTIMEZONE
TZID:America/Chicago
BEGIN:DAYLIGHT
TZOFFSETFROM:-0600
TZOFFSETTO:-0500
TZNAME:CDT
DTSTART:20240310T080000
END:DAYLIGHT
BEGIN:STANDARD
TZOFFSETFROM:-0500
TZOFFSETTO:-0600
TZNAME:CST
DTSTART:20241103T070000
END:STANDARD
BEGIN:DAYLIGHT
TZOFFSETFROM:-0600
TZOFFSETTO:-0500
TZNAME:CDT
DTSTART:20250309T080000
END:DAYLIGHT
BEGIN:STANDARD
TZOFFSETFROM:-0500
TZOFFSETTO:-0600
TZNAME:CST
DTSTART:20251102T070000
END:STANDARD
BEGIN:DAYLIGHT
TZOFFSETFROM:-0600
TZOFFSETTO:-0500
TZNAME:CDT
DTSTART:20260308T080000
END:DAYLIGHT
BEGIN:STANDARD
TZOFFSETFROM:-0500
TZOFFSETTO:-0600
TZNAME:CST
DTSTART:20261101T070000
END:STANDARD
END:VTIMEZONE
BEGIN:VEVENT
DTSTART;TZID=America/Chicago:20251203T190000
DTEND;TZID=America/Chicago:20251203T193000
DTSTAMP:20260422T071601
CREATED:20241204T220546Z
LAST-MODIFIED:20241204T220546Z
UID:1915-1764788400-1764790200@w9src.org
SUMMARY:Skywarn Net
DESCRIPTION:146.640 -input PL 107.2
URL:https://w9src.org/event/skywarn-net-88/
LOCATION:IL
CATEGORIES:Skywarn Net
END:VEVENT
BEGIN:VEVENT
DTSTART;TZID=America/Chicago:20251207T190000
DTEND;TZID=America/Chicago:20251207T190000
DTSTAMP:20260422T071601
CREATED:20241206T210047Z
LAST-MODIFIED:20241206T210047Z
UID:1936-1765134000-1765134000@w9src.org
SUMMARY:General Check-in Net
DESCRIPTION:146.640 -input PL 107.2
URL:https://w9src.org/event/general-check-in-net-115/
LOCATION:IL
CATEGORIES:Weekly Net
END:VEVENT
BEGIN:VEVENT
DTSTART;TZID=America/Chicago:20251210T190000
DTEND;TZID=America/Chicago:20251210T193000
DTSTAMP:20260422T071601
CREATED:20241204T220546Z
LAST-MODIFIED:20241204T220546Z
UID:1916-1765393200-1765395000@w9src.org
SUMMARY:Skywarn Net
DESCRIPTION:146.640 -input PL 107.2
URL:https://w9src.org/event/skywarn-net-89/
LOCATION:IL
CATEGORIES:Skywarn Net
END:VEVENT
BEGIN:VEVENT
DTSTART;TZID=America/Chicago:20251211T190000
DTEND;TZID=America/Chicago:20251211T213000
DTSTAMP:20260422T071601
CREATED:20251109T181952Z
LAST-MODIFIED:20251109T181952Z
UID:1960-1765479600-1765488600@w9src.org
SUMMARY:STARS December Meeting & Holiday Social
DESCRIPTION:
URL:https://w9src.org/event/stars-december-meeting-holiday-social/
LOCATION:Beggar’s Pizza\, 15600 S. Cicero Avenue\, Oak Forest\, IL\, 60452\, United States
CATEGORIES:Monthly Meetings
END:VEVENT
BEGIN:VEVENT
DTSTART;TZID=America/Chicago:20251214T190000
DTEND;TZID=America/Chicago:20251214T190000
DTSTAMP:20260422T071601
CREATED:20241206T210047Z
LAST-MODIFIED:20241206T210047Z
UID:1935-1765738800-1765738800@w9src.org
SUMMARY:General Check-in Net
DESCRIPTION:146.640 -input PL 107.2
URL:https://w9src.org/event/general-check-in-net-114/
LOCATION:IL
CATEGORIES:Weekly Net
END:VEVENT
BEGIN:VEVENT
DTSTART;TZID=America/Chicago:20251217T190000
DTEND;TZID=America/Chicago:20251217T193000
DTSTAMP:20260422T071601
CREATED:20241204T220546Z
LAST-MODIFIED:20241204T220546Z
UID:1917-1765998000-1765999800@w9src.org
SUMMARY:Skywarn Net
DESCRIPTION:146.640 -input PL 107.2
URL:https://w9src.org/event/skywarn-net-90/
LOCATION:IL
CATEGORIES:Skywarn Net
END:VEVENT
BEGIN:VEVENT
DTSTART;TZID=America/Chicago:20251221T190000
DTEND;TZID=America/Chicago:20251221T190000
DTSTAMP:20260422T071601
CREATED:20241206T210047Z
LAST-MODIFIED:20241206T210047Z
UID:1934-1766343600-1766343600@w9src.org
SUMMARY:General Check-in Net
DESCRIPTION:146.640 -input PL 107.2
URL:https://w9src.org/event/general-check-in-net-113/
LOCATION:IL
CATEGORIES:Weekly Net
END:VEVENT
BEGIN:VEVENT
DTSTART;TZID=America/Chicago:20251224T190000
DTEND;TZID=America/Chicago:20251224T193000
DTSTAMP:20260422T071601
CREATED:20241204T220546Z
LAST-MODIFIED:20241204T220546Z
UID:1918-1766602800-1766604600@w9src.org
SUMMARY:Skywarn Net
DESCRIPTION:146.640 -input PL 107.2
URL:https://w9src.org/event/skywarn-net-91/
LOCATION:IL
CATEGORIES:Skywarn Net
END:VEVENT
BEGIN:VEVENT
DTSTART;TZID=America/Chicago:20251228T190000
DTEND;TZID=America/Chicago:20251228T190000
DTSTAMP:20260422T071601
CREATED:20241206T210047Z
LAST-MODIFIED:20241206T210047Z
UID:1933-1766948400-1766948400@w9src.org
SUMMARY:General Check-in Net
DESCRIPTION:146.640 -input PL 107.2
URL:https://w9src.org/event/general-check-in-net-112/
LOCATION:IL
CATEGORIES:Weekly Net
END:VEVENT
BEGIN:VEVENT
DTSTART;TZID=America/Chicago:20251231T190000
DTEND;TZID=America/Chicago:20251231T193000
DTSTAMP:20260422T071601
CREATED:20241204T220546Z
LAST-MODIFIED:20241204T220546Z
UID:1919-1767207600-1767209400@w9src.org
SUMMARY:Skywarn Net
DESCRIPTION:146.640 -input PL 107.2
URL:https://w9src.org/event/skywarn-net-92/
LOCATION:IL
CATEGORIES:Skywarn Net
END:VEVENT
END:VCALENDAR