BEGIN:VCALENDAR
VERSION:2.0
PRODID:-//W9SRC - ECPv6.15.20//NONSGML v1.0//EN
CALSCALE:GREGORIAN
METHOD:PUBLISH
X-WR-CALNAME:W9SRC
X-ORIGINAL-URL:https://w9src.org
X-WR-CALDESC:Events for W9SRC
REFRESH-INTERVAL;VALUE=DURATION:PT1H
X-Robots-Tag:noindex
X-PUBLISHED-TTL:PT1H
BEGIN:VTIMEZONE
TZID:America/Chicago
BEGIN:DAYLIGHT
TZOFFSETFROM:-0600
TZOFFSETTO:-0500
TZNAME:CDT
DTSTART:20220313T080000
END:DAYLIGHT
BEGIN:STANDARD
TZOFFSETFROM:-0500
TZOFFSETTO:-0600
TZNAME:CST
DTSTART:20221106T070000
END:STANDARD
BEGIN:DAYLIGHT
TZOFFSETFROM:-0600
TZOFFSETTO:-0500
TZNAME:CDT
DTSTART:20230312T080000
END:DAYLIGHT
BEGIN:STANDARD
TZOFFSETFROM:-0500
TZOFFSETTO:-0600
TZNAME:CST
DTSTART:20231105T070000
END:STANDARD
BEGIN:DAYLIGHT
TZOFFSETFROM:-0600
TZOFFSETTO:-0500
TZNAME:CDT
DTSTART:20240310T080000
END:DAYLIGHT
BEGIN:STANDARD
TZOFFSETFROM:-0500
TZOFFSETTO:-0600
TZNAME:CST
DTSTART:20241103T070000
END:STANDARD
END:VTIMEZONE
BEGIN:VEVENT
DTSTART;TZID=America/Chicago:20231008T190000
DTEND;TZID=America/Chicago:20231008T193000
DTSTAMP:20260420T023012
CREATED:20230926T025446Z
LAST-MODIFIED:20230926T025629Z
UID:1128-1696791600-1696793400@w9src.org
SUMMARY:General Check in Net
DESCRIPTION:146.640 -input PL 107.2
URL:https://w9src.org/event/general-check-in-net-2/
LOCATION:IL
CATEGORIES:Weekly Net
END:VEVENT
BEGIN:VEVENT
DTSTART;TZID=America/Chicago:20231011T190000
DTEND;TZID=America/Chicago:20231011T193000
DTSTAMP:20260420T023012
CREATED:20230926T201930Z
LAST-MODIFIED:20230926T201930Z
UID:1141-1697050800-1697052600@w9src.org
SUMMARY:Skywarn Net
DESCRIPTION:146.640 -input PL 107.2
URL:https://w9src.org/event/skywarn-net-2/
LOCATION:IL
CATEGORIES:Skywarn Net
END:VEVENT
BEGIN:VEVENT
DTSTART;TZID=America/Chicago:20231012T193000
DTEND;TZID=America/Chicago:20231012T213000
DTSTAMP:20260420T023012
CREATED:20230814T022551Z
LAST-MODIFIED:20230814T022551Z
UID:1106-1697139000-1697146200@w9src.org
SUMMARY:STARS Monthly Meeting
DESCRIPTION:
URL:https://w9src.org/event/stars-monthly-meeting-64/
LOCATION:Bridgeview Community Center\, 7902 S Oketo Ave\, Bridgeview\, IL\, 60455\, United States
END:VEVENT
BEGIN:VEVENT
DTSTART;TZID=America/Chicago:20231015T190000
DTEND;TZID=America/Chicago:20231015T193000
DTSTAMP:20260420T023012
CREATED:20230926T030605Z
LAST-MODIFIED:20230926T030605Z
UID:1136-1697396400-1697398200@w9src.org
SUMMARY:General Check in Net
DESCRIPTION:146.640 -input PL 107.2
URL:https://w9src.org/event/general-check-in-net-5/
LOCATION:IL
CATEGORIES:Weekly Net
END:VEVENT
BEGIN:VEVENT
DTSTART;TZID=America/Chicago:20231018T190000
DTEND;TZID=America/Chicago:20231018T193000
DTSTAMP:20260420T023012
CREATED:20230926T202054Z
LAST-MODIFIED:20230930T004400Z
UID:1143-1697655600-1697657400@w9src.org
SUMMARY:Skywarn Net
DESCRIPTION:146.640 -input PL 107.2
URL:https://w9src.org/event/skywarn/
LOCATION:IL
CATEGORIES:Skywarn Net
END:VEVENT
BEGIN:VEVENT
DTSTART;TZID=America/Chicago:20231022T190000
DTEND;TZID=America/Chicago:20231022T193000
DTSTAMP:20260420T023012
CREATED:20230926T030201Z
LAST-MODIFIED:20230926T030321Z
UID:1133-1698001200-1698003000@w9src.org
SUMMARY:General Check in Net
DESCRIPTION:146.640 -input PL 107.2
URL:https://w9src.org/event/general-check-in-net-4/
LOCATION:IL
CATEGORIES:Weekly Net
END:VEVENT
BEGIN:VEVENT
DTSTART;TZID=America/Chicago:20231025T190000
DTEND;TZID=America/Chicago:20231025T193000
DTSTAMP:20260420T023012
CREATED:20230926T202953Z
LAST-MODIFIED:20230930T004221Z
UID:1145-1698260400-1698262200@w9src.org
SUMMARY:Skywarn Net
DESCRIPTION:146.640 -input PL 107.2
URL:https://w9src.org/event/skywarn-2/
LOCATION:IL
CATEGORIES:Skywarn Net
END:VEVENT
BEGIN:VEVENT
DTSTART;TZID=America/Chicago:20231028T100000
DTEND;TZID=America/Chicago:20231028T113000
DTSTAMP:20260420T023012
CREATED:20230812T013108Z
LAST-MODIFIED:20230831T005503Z
UID:1092-1698487200-1698492600@w9src.org
SUMMARY:Stars VE Testing Session
DESCRIPTION:
URL:https://w9src.org/event/ve-testing-session/
LOCATION:Worth Public Library\, 6917 W 111th St\, Worth\, IL\, 60482\, United States
CATEGORIES:VE Testing Sessions
END:VEVENT
BEGIN:VEVENT
DTSTART;TZID=America/Chicago:20231029T190000
DTEND;TZID=America/Chicago:20231029T193000
DTSTAMP:20260420T023012
CREATED:20230926T025850Z
LAST-MODIFIED:20230926T025850Z
UID:1131-1698606000-1698607800@w9src.org
SUMMARY:General Check in Net
DESCRIPTION:146.640 -input PL 107.2
URL:https://w9src.org/event/general-check-in-net-3/
LOCATION:IL
CATEGORIES:Weekly Net
END:VEVENT
BEGIN:VEVENT
DTSTART;TZID=America/Chicago:20231101T190000
DTEND;TZID=America/Chicago:20231101T193000
DTSTAMP:20260420T023012
CREATED:20230926T205239Z
LAST-MODIFIED:20230930T004509Z
UID:1147-1698865200-1698867000@w9src.org
SUMMARY:Skywarn Net
DESCRIPTION:146.640 -input PL 107.2
URL:https://w9src.org/event/skywarn-3/
LOCATION:IL
CATEGORIES:Skywarn Net
END:VEVENT
BEGIN:VEVENT
DTSTART;TZID=America/Chicago:20231105T190000
DTEND;TZID=America/Chicago:20231105T193000
DTSTAMP:20260420T023012
CREATED:20230926T025850Z
LAST-MODIFIED:20230926T025850Z
UID:1151-1699210800-1699212600@w9src.org
SUMMARY:General Check in Net
DESCRIPTION:146.640 -input PL 107.2
URL:https://w9src.org/event/general-check-in-net-6/
LOCATION:IL
CATEGORIES:Weekly Net
END:VEVENT
BEGIN:VEVENT
DTSTART;TZID=America/Chicago:20231108T190000
DTEND;TZID=America/Chicago:20231108T193000
DTSTAMP:20260420T023012
CREATED:20230926T205239Z
LAST-MODIFIED:20230930T004657Z
UID:1155-1699470000-1699471800@w9src.org
SUMMARY:Skywarn Net
DESCRIPTION:146.640 -input PL 107.2
URL:https://w9src.org/event/skywarn-4/
LOCATION:IL
CATEGORIES:Skywarn Net
END:VEVENT
BEGIN:VEVENT
DTSTART;TZID=America/Chicago:20231109T193000
DTEND;TZID=America/Chicago:20231109T210000
DTSTAMP:20260420T023012
CREATED:20230814T020907Z
LAST-MODIFIED:20230814T021737Z
UID:1102-1699558200-1699563600@w9src.org
SUMMARY:STARS Monthly Meeting
DESCRIPTION:
URL:https://w9src.org/event/stars-monthly-meeting-63/
LOCATION:Bridgeview Community Center\, 7902 S Oketo Ave\, Bridgeview\, IL\, 60455\, United States
CATEGORIES:Monthly Meetings
END:VEVENT
BEGIN:VEVENT
DTSTART;TZID=America/Chicago:20231112T190000
DTEND;TZID=America/Chicago:20231112T193000
DTSTAMP:20260420T023012
CREATED:20230926T025850Z
LAST-MODIFIED:20230926T025850Z
UID:1152-1699815600-1699817400@w9src.org
SUMMARY:General Check in Net
DESCRIPTION:146.640 -input PL 107.2
URL:https://w9src.org/event/general-check-in-net-7/
LOCATION:IL
CATEGORIES:Weekly Net
END:VEVENT
BEGIN:VEVENT
DTSTART;TZID=America/Chicago:20231115T190000
DTEND;TZID=America/Chicago:20231115T193000
DTSTAMP:20260420T023012
CREATED:20230926T205239Z
LAST-MODIFIED:20230930T004832Z
UID:1156-1700074800-1700076600@w9src.org
SUMMARY:Skywarn Net
DESCRIPTION:146.640 -input PL 107.2
URL:https://w9src.org/event/skywarn-5/
LOCATION:IL
CATEGORIES:Skywarn Net
END:VEVENT
BEGIN:VEVENT
DTSTART;TZID=America/Chicago:20231119T190000
DTEND;TZID=America/Chicago:20231119T193000
DTSTAMP:20260420T023012
CREATED:20230926T025850Z
LAST-MODIFIED:20230926T025850Z
UID:1153-1700420400-1700422200@w9src.org
SUMMARY:General Check in Net
DESCRIPTION:146.640 -input PL 107.2
URL:https://w9src.org/event/general-check-in-net-8/
LOCATION:IL
CATEGORIES:Weekly Net
END:VEVENT
BEGIN:VEVENT
DTSTART;TZID=America/Chicago:20231122T190000
DTEND;TZID=America/Chicago:20231122T193000
DTSTAMP:20260420T023012
CREATED:20230929T205239Z
LAST-MODIFIED:20230930T012222Z
UID:1166-1700679600-1700681400@w9src.org
SUMMARY:Skywarn Net
DESCRIPTION:146.640 -input PL 107.2
URL:https://w9src.org/event/skywarn-net-3/
LOCATION:IL
CATEGORIES:Skywarn Net
END:VEVENT
BEGIN:VEVENT
DTSTART;TZID=America/Chicago:20231125T100000
DTEND;TZID=America/Chicago:20231125T113000
DTSTAMP:20260420T023012
CREATED:20230812T014211Z
LAST-MODIFIED:20230831T003749Z
UID:1096-1700906400-1700911800@w9src.org
SUMMARY:Stars VE Testing Session
DESCRIPTION:
URL:https://w9src.org/event/stars-ve-testing-session-38/
LOCATION:Worth Public Library\, 6917 W 111th St\, Worth\, IL\, 60482\, United States
END:VEVENT
BEGIN:VEVENT
DTSTART;TZID=America/Chicago:20231126T190000
DTEND;TZID=America/Chicago:20231126T193000
DTSTAMP:20260420T023012
CREATED:20230926T025850Z
LAST-MODIFIED:20230926T025850Z
UID:1328-1701025200-1701027000@w9src.org
SUMMARY:General Check in Net
DESCRIPTION:146.640 -input PL 107.2
URL:https://w9src.org/event/general-check-in-net-22/
LOCATION:IL
CATEGORIES:Weekly Net
END:VEVENT
BEGIN:VEVENT
DTSTART;TZID=America/Chicago:20231129T190000
DTEND;TZID=America/Chicago:20231129T193000
DTSTAMP:20260420T023012
CREATED:20230929T205239Z
LAST-MODIFIED:20230930T012101Z
UID:1157-1701284400-1701286200@w9src.org
SUMMARY:Skywarn Net
DESCRIPTION:146.640 -input PL 107.2
URL:https://w9src.org/event/skywarn-6/
LOCATION:IL
CATEGORIES:Skywarn Net
END:VEVENT
BEGIN:VEVENT
DTSTART;TZID=America/Chicago:20231203T190000
DTEND;TZID=America/Chicago:20231203T193000
DTSTAMP:20260420T023012
CREATED:20230926T025850Z
LAST-MODIFIED:20230926T025850Z
UID:1332-1701630000-1701631800@w9src.org
SUMMARY:General Check in Net
DESCRIPTION:146.640 -input PL 107.2
URL:https://w9src.org/event/general-check-in-net-26/
LOCATION:IL
CATEGORIES:Weekly Net
END:VEVENT
BEGIN:VEVENT
DTSTART;TZID=America/Chicago:20231206T190000
DTEND;TZID=America/Chicago:20231206T193000
DTSTAMP:20260420T023012
CREATED:20230929T205239Z
LAST-MODIFIED:20230930T013430Z
UID:1171-1701889200-1701891000@w9src.org
SUMMARY:Skywarn Net
DESCRIPTION:146.640 -input PL 107.2
URL:https://w9src.org/event/skywarn-net-5/
LOCATION:IL
CATEGORIES:Skywarn Net
END:VEVENT
BEGIN:VEVENT
DTSTART;TZID=America/Chicago:20231210T190000
DTEND;TZID=America/Chicago:20231210T193000
DTSTAMP:20260420T023012
CREATED:20230926T025850Z
LAST-MODIFIED:20230930T013810Z
UID:1154-1702234800-1702236600@w9src.org
SUMMARY:General Check in Net
DESCRIPTION:146.640 -input PL 107.2
URL:https://w9src.org/event/general-check-in-net-9/
LOCATION:IL
CATEGORIES:Weekly Net
END:VEVENT
BEGIN:VEVENT
DTSTART;TZID=America/Chicago:20231213T190000
DTEND;TZID=America/Chicago:20231213T193000
DTSTAMP:20260420T023012
CREATED:20230929T205239Z
LAST-MODIFIED:20230930T012812Z
UID:1169-1702494000-1702495800@w9src.org
SUMMARY:Skywarn Net
DESCRIPTION:146.640 -input PL 107.2
URL:https://w9src.org/event/skywarn-net-4/
LOCATION:IL
CATEGORIES:Skywarn Net
END:VEVENT
BEGIN:VEVENT
DTSTART;TZID=America/Chicago:20231214T193000
DTEND;TZID=America/Chicago:20231214T210000
DTSTAMP:20260420T023012
CREATED:20231106T030910Z
LAST-MODIFIED:20231106T030910Z
UID:1572-1702582200-1702587600@w9src.org
SUMMARY:Copy of Christmas Holiday Meeting/Party
DESCRIPTION:
URL:https://w9src.org/event/copy-of-christmas-holiday-meeting-party/
LOCATION:Beggar’s Pizza\, 15600 S. Cicero Avenue\, Oak Forest\, IL\, 60452\, United States
CATEGORIES:Monthly Meetings
END:VEVENT
BEGIN:VEVENT
DTSTART;TZID=America/Chicago:20231217T190000
DTEND;TZID=America/Chicago:20231217T193000
DTSTAMP:20260420T023012
CREATED:20230926T025850Z
LAST-MODIFIED:20230926T025850Z
UID:1334-1702839600-1702841400@w9src.org
SUMMARY:General Check in Net
DESCRIPTION:146.640 -input PL 107.2
URL:https://w9src.org/event/general-check-in-net-24/
LOCATION:IL
CATEGORIES:Weekly Net
END:VEVENT
BEGIN:VEVENT
DTSTART;TZID=America/Chicago:20231220T190000
DTEND;TZID=America/Chicago:20231220T193000
DTSTAMP:20260420T023012
CREATED:20230929T205239Z
LAST-MODIFIED:20230929T205239Z
UID:1336-1703098800-1703100600@w9src.org
SUMMARY:Skywarn Net
DESCRIPTION:146.640 -input PL 107.2
URL:https://w9src.org/event/skywarn-net-19/
LOCATION:IL
CATEGORIES:Skywarn Net
END:VEVENT
BEGIN:VEVENT
DTSTART;TZID=America/Chicago:20231224T190000
DTEND;TZID=America/Chicago:20231224T193000
DTSTAMP:20260420T023012
CREATED:20230926T025850Z
LAST-MODIFIED:20230926T025850Z
UID:1331-1703444400-1703446200@w9src.org
SUMMARY:General Check in Net
DESCRIPTION:146.640 -input PL 107.2
URL:https://w9src.org/event/general-check-in-net-25/
LOCATION:IL
CATEGORIES:Weekly Net
END:VEVENT
BEGIN:VEVENT
DTSTART;TZID=America/Chicago:20231227T190000
DTEND;TZID=America/Chicago:20231227T193000
DTSTAMP:20260420T023012
CREATED:20230929T205239Z
LAST-MODIFIED:20230929T205239Z
UID:1335-1703703600-1703705400@w9src.org
SUMMARY:Skywarn Net
DESCRIPTION:146.640 -input PL 107.2
URL:https://w9src.org/event/skywarn-net-18/
LOCATION:IL
CATEGORIES:Skywarn Net
END:VEVENT
BEGIN:VEVENT
DTSTART;TZID=America/Chicago:20231231T190000
DTEND;TZID=America/Chicago:20231231T193000
DTSTAMP:20260420T023012
CREATED:20230926T025850Z
LAST-MODIFIED:20230926T025850Z
UID:1329-1704049200-1704051000@w9src.org
SUMMARY:General Check in Net
DESCRIPTION:146.640 -input PL 107.2
URL:https://w9src.org/event/general-check-in-net-23/
LOCATION:IL
CATEGORIES:Weekly Net
END:VEVENT
END:VCALENDAR