BEGIN:VCALENDAR
VERSION:2.0
PRODID:-//W9SRC - ECPv6.15.20//NONSGML v1.0//EN
CALSCALE:GREGORIAN
METHOD:PUBLISH
X-WR-CALNAME:W9SRC
X-ORIGINAL-URL:https://w9src.org
X-WR-CALDESC:Events for W9SRC
REFRESH-INTERVAL;VALUE=DURATION:PT1H
X-Robots-Tag:noindex
X-PUBLISHED-TTL:PT1H
BEGIN:VTIMEZONE
TZID:America/Chicago
BEGIN:DAYLIGHT
TZOFFSETFROM:-0600
TZOFFSETTO:-0500
TZNAME:CDT
DTSTART:20220313T080000
END:DAYLIGHT
BEGIN:STANDARD
TZOFFSETFROM:-0500
TZOFFSETTO:-0600
TZNAME:CST
DTSTART:20221106T070000
END:STANDARD
BEGIN:DAYLIGHT
TZOFFSETFROM:-0600
TZOFFSETTO:-0500
TZNAME:CDT
DTSTART:20230312T080000
END:DAYLIGHT
BEGIN:STANDARD
TZOFFSETFROM:-0500
TZOFFSETTO:-0600
TZNAME:CST
DTSTART:20231105T070000
END:STANDARD
BEGIN:DAYLIGHT
TZOFFSETFROM:-0600
TZOFFSETTO:-0500
TZNAME:CDT
DTSTART:20240310T080000
END:DAYLIGHT
BEGIN:STANDARD
TZOFFSETFROM:-0500
TZOFFSETTO:-0600
TZNAME:CST
DTSTART:20241103T070000
END:STANDARD
BEGIN:DAYLIGHT
TZOFFSETFROM:-0600
TZOFFSETTO:-0500
TZNAME:CDT
DTSTART:20250309T080000
END:DAYLIGHT
BEGIN:STANDARD
TZOFFSETFROM:-0500
TZOFFSETTO:-0600
TZNAME:CST
DTSTART:20251102T070000
END:STANDARD
END:VTIMEZONE
BEGIN:VEVENT
DTSTART;TZID=America/Chicago:20240327T190000
DTEND;TZID=America/Chicago:20240327T193000
DTSTAMP:20260422T203858
CREATED:20230929T205239Z
LAST-MODIFIED:20230929T205239Z
UID:1321-1711566000-1711567800@w9src.org
SUMMARY:Skywarn Net
DESCRIPTION:146.640 -input PL 107.2
URL:https://w9src.org/event/skywarn-net-13/
CATEGORIES:Skywarn Net
END:VEVENT
BEGIN:VEVENT
DTSTART;TZID=America/Chicago:20240324T190000
DTEND;TZID=America/Chicago:20240324T193000
DTSTAMP:20260422T203858
CREATED:20230926T025850Z
LAST-MODIFIED:20230926T025850Z
UID:1315-1711306800-1711308600@w9src.org
SUMMARY:General Check in Net
DESCRIPTION:146.640 -input PL 107.2
URL:https://w9src.org/event/general-check-in-net-19/
CATEGORIES:Weekly Net
END:VEVENT
BEGIN:VEVENT
DTSTART;TZID=America/Chicago:20240323T100000
DTEND;TZID=America/Chicago:20240323T113000
DTSTAMP:20260422T203858
CREATED:20230812T014815Z
LAST-MODIFIED:20231109T233646Z
UID:1288-1711188000-1711193400@w9src.org
SUMMARY:Stars VE Testing Session
DESCRIPTION:
URL:https://w9src.org/event/stars-ve-testing-session-43/
LOCATION:Worth Public Library\, 6917 W 111th St\, Worth\, IL\, 60482\, United States
CATEGORIES:VE Testing Sessions
END:VEVENT
BEGIN:VEVENT
DTSTART;TZID=America/Chicago:20240320T190000
DTEND;TZID=America/Chicago:20240320T193000
DTSTAMP:20260422T203858
CREATED:20230929T205239Z
LAST-MODIFIED:20230929T205239Z
UID:1322-1710961200-1710963000@w9src.org
SUMMARY:Skywarn Net
DESCRIPTION:146.640 -input PL 107.2
URL:https://w9src.org/event/skywarn-net-14/
CATEGORIES:Skywarn Net
END:VEVENT
BEGIN:VEVENT
DTSTART;TZID=America/Chicago:20240317T190000
DTEND;TZID=America/Chicago:20240317T193000
DTSTAMP:20260422T203858
CREATED:20230926T025850Z
LAST-MODIFIED:20230926T025850Z
UID:1314-1710702000-1710703800@w9src.org
SUMMARY:General Check in Net
DESCRIPTION:146.640 -input PL 107.2
URL:https://w9src.org/event/general-check-in-net-18/
CATEGORIES:Weekly Net
END:VEVENT
BEGIN:VEVENT
DTSTART;TZID=America/Chicago:20240313T190000
DTEND;TZID=America/Chicago:20240313T193000
DTSTAMP:20260422T203858
CREATED:20230929T205239Z
LAST-MODIFIED:20230929T205239Z
UID:1320-1710356400-1710358200@w9src.org
SUMMARY:Skywarn Net
DESCRIPTION:146.640 -input PL 107.2
URL:https://w9src.org/event/skywarn-net-12/
CATEGORIES:Skywarn Net
END:VEVENT
BEGIN:VEVENT
DTSTART;TZID=America/Chicago:20240310T190000
DTEND;TZID=America/Chicago:20240310T193000
DTSTAMP:20260422T203858
CREATED:20230926T025850Z
LAST-MODIFIED:20230926T025850Z
UID:1317-1710097200-1710099000@w9src.org
SUMMARY:General Check in Net
DESCRIPTION:146.640 -input PL 107.2
URL:https://w9src.org/event/general-check-in-net-20/
CATEGORIES:Weekly Net
END:VEVENT
BEGIN:VEVENT
DTSTART;TZID=America/Chicago:20240306T190000
DTEND;TZID=America/Chicago:20240306T193000
DTSTAMP:20260422T203858
CREATED:20230929T205239Z
LAST-MODIFIED:20230929T205239Z
UID:1319-1709751600-1709753400@w9src.org
SUMMARY:Skywarn Net
DESCRIPTION:146.640 -input PL 107.2
URL:https://w9src.org/event/skywarn-net-11/
CATEGORIES:Skywarn Net
END:VEVENT
BEGIN:VEVENT
DTSTART;TZID=America/Chicago:20240303T190000
DTEND;TZID=America/Chicago:20240303T193000
DTSTAMP:20260422T203858
CREATED:20230926T025850Z
LAST-MODIFIED:20230926T025850Z
UID:1313-1709492400-1709494200@w9src.org
SUMMARY:General Check in Net
DESCRIPTION:146.640 -input PL 107.2
URL:https://w9src.org/event/general-check-in-net-17/
CATEGORIES:Weekly Net
END:VEVENT
BEGIN:VEVENT
DTSTART;TZID=America/Chicago:20240228T190000
DTEND;TZID=America/Chicago:20240228T193000
DTSTAMP:20260422T203858
CREATED:20230929T205239Z
LAST-MODIFIED:20231125T015709Z
UID:1323-1709146800-1709148600@w9src.org
SUMMARY:Skywarn Net
DESCRIPTION:146.640 -input PL 107.2
URL:https://w9src.org/event/copy-of-skywarn-net/
CATEGORIES:Skywarn Net
END:VEVENT
BEGIN:VEVENT
DTSTART;TZID=America/Chicago:20240225T190000
DTEND;TZID=America/Chicago:20240225T193000
DTSTAMP:20260422T203858
CREATED:20230926T025850Z
LAST-MODIFIED:20230926T025850Z
UID:1306-1708887600-1708889400@w9src.org
SUMMARY:General Check in Net
DESCRIPTION:146.640 -input PL 107.2
URL:https://w9src.org/event/general-check-in-net-16/
CATEGORIES:Weekly Net
END:VEVENT
BEGIN:VEVENT
DTSTART;TZID=America/Chicago:20240224T100000
DTEND;TZID=America/Chicago:20240224T113000
DTSTAMP:20260422T203858
CREATED:20230812T014815Z
LAST-MODIFIED:20231109T233624Z
UID:1289-1708768800-1708774200@w9src.org
SUMMARY:Stars VE Testing Session
DESCRIPTION:
URL:https://w9src.org/event/stars-ve-testing-session-44/
LOCATION:Worth Public Library\, 6917 W 111th St\, Worth\, IL\, 60482\, United States
CATEGORIES:VE Testing Sessions
END:VEVENT
BEGIN:VEVENT
DTSTART;TZID=America/Chicago:20240221T190000
DTEND;TZID=America/Chicago:20240221T193000
DTSTAMP:20260422T203858
CREATED:20230929T205239Z
LAST-MODIFIED:20230929T205239Z
UID:1324-1708542000-1708543800@w9src.org
SUMMARY:Skywarn Net
DESCRIPTION:146.640 -input PL 107.2
URL:https://w9src.org/event/skywarn-net-15/
CATEGORIES:Skywarn Net
END:VEVENT
BEGIN:VEVENT
DTSTART;TZID=America/Chicago:20240218T190000
DTEND;TZID=America/Chicago:20240218T193000
DTSTAMP:20260422T203858
CREATED:20230926T025850Z
LAST-MODIFIED:20230926T025850Z
UID:1305-1708282800-1708284600@w9src.org
SUMMARY:General Check in Net
DESCRIPTION:146.640 -input PL 107.2
URL:https://w9src.org/event/general-check-in-net-15/
CATEGORIES:Weekly Net
END:VEVENT
BEGIN:VEVENT
DTSTART;TZID=America/Chicago:20240214T190000
DTEND;TZID=America/Chicago:20240214T193000
DTSTAMP:20260422T203858
CREATED:20230929T205239Z
LAST-MODIFIED:20230929T205239Z
UID:1327-1707937200-1707939000@w9src.org
SUMMARY:Skywarn Net
DESCRIPTION:146.640 -input PL 107.2
URL:https://w9src.org/event/skywarn-net-17/
CATEGORIES:Skywarn Net
END:VEVENT
BEGIN:VEVENT
DTSTART;TZID=America/Chicago:20240211T190000
DTEND;TZID=America/Chicago:20240211T193000
DTSTAMP:20260422T203858
CREATED:20230926T025850Z
LAST-MODIFIED:20230926T025850Z
UID:1304-1707678000-1707679800@w9src.org
SUMMARY:General Check in Net
DESCRIPTION:146.640 -input PL 107.2
URL:https://w9src.org/event/general-check-in-net-14/
CATEGORIES:Weekly Net
END:VEVENT
BEGIN:VEVENT
DTSTART;TZID=America/Chicago:20240207T190000
DTEND;TZID=America/Chicago:20240207T193000
DTSTAMP:20260422T203858
CREATED:20230929T205239Z
LAST-MODIFIED:20230929T205239Z
UID:1326-1707332400-1707334200@w9src.org
SUMMARY:Skywarn Net
DESCRIPTION:146.640 -input PL 107.2
URL:https://w9src.org/event/skywarn-net-16/
CATEGORIES:Skywarn Net
END:VEVENT
BEGIN:VEVENT
DTSTART;TZID=America/Chicago:20240204T190000
DTEND;TZID=America/Chicago:20240204T193000
DTSTAMP:20260422T203858
CREATED:20230926T025850Z
LAST-MODIFIED:20230926T025850Z
UID:1303-1707073200-1707075000@w9src.org
SUMMARY:General Check in Net
DESCRIPTION:146.640 -input PL 107.2
URL:https://w9src.org/event/general-check-in-net-13/
CATEGORIES:Weekly Net
END:VEVENT
BEGIN:VEVENT
DTSTART;TZID=America/Chicago:20240131T190000
DTEND;TZID=America/Chicago:20240131T193000
DTSTAMP:20260422T203858
CREATED:20230929T205239Z
LAST-MODIFIED:20230929T205239Z
UID:1311-1706727600-1706729400@w9src.org
SUMMARY:Skywarn Net
DESCRIPTION:146.640 -input PL 107.2
URL:https://w9src.org/event/skywarn-net-10/
CATEGORIES:Skywarn Net
END:VEVENT
BEGIN:VEVENT
DTSTART;TZID=America/Chicago:20240128T190000
DTEND;TZID=America/Chicago:20240128T193000
DTSTAMP:20260422T203858
CREATED:20230926T025850Z
LAST-MODIFIED:20230926T025850Z
UID:1302-1706468400-1706470200@w9src.org
SUMMARY:General Check in Net
DESCRIPTION:146.640 -input PL 107.2
URL:https://w9src.org/event/general-check-in-net-12/
CATEGORIES:Weekly Net
END:VEVENT
BEGIN:VEVENT
DTSTART;TZID=America/Chicago:20240127T100000
DTEND;TZID=America/Chicago:20240127T113000
DTSTAMP:20260422T203858
CREATED:20230812T014815Z
LAST-MODIFIED:20231109T233543Z
UID:1099-1706349600-1706355000@w9src.org
SUMMARY:Stars VE Testing Session
DESCRIPTION:
URL:https://w9src.org/event/stars-ve-testing-session-39/
LOCATION:Worth Public Library\, 6917 W 111th St\, Worth\, IL\, 60482\, United States
CATEGORIES:VE Testing Sessions
END:VEVENT
BEGIN:VEVENT
DTSTART;TZID=America/Chicago:20240124T190000
DTEND;TZID=America/Chicago:20240124T193000
DTSTAMP:20260422T203858
CREATED:20230929T205239Z
LAST-MODIFIED:20230929T205239Z
UID:1310-1706122800-1706124600@w9src.org
SUMMARY:Skywarn Net
DESCRIPTION:146.640 -input PL 107.2
URL:https://w9src.org/event/skywarn-net-9/
CATEGORIES:Skywarn Net
END:VEVENT
BEGIN:VEVENT
DTSTART;TZID=America/Chicago:20240121T190000
DTEND;TZID=America/Chicago:20240121T193000
DTSTAMP:20260422T203858
CREATED:20230926T025850Z
LAST-MODIFIED:20230926T025850Z
UID:1301-1705863600-1705865400@w9src.org
SUMMARY:General Check in Net
DESCRIPTION:146.640 -input PL 107.2
URL:https://w9src.org/event/general-check-in-net-11/
CATEGORIES:Weekly Net
END:VEVENT
BEGIN:VEVENT
DTSTART;TZID=America/Chicago:20240117T190000
DTEND;TZID=America/Chicago:20240117T193000
DTSTAMP:20260422T203858
CREATED:20230929T205239Z
LAST-MODIFIED:20230929T205239Z
UID:1309-1705518000-1705519800@w9src.org
SUMMARY:Skywarn Net
DESCRIPTION:146.640 -input PL 107.2
URL:https://w9src.org/event/skywarn-net-8/
CATEGORIES:Skywarn Net
END:VEVENT
BEGIN:VEVENT
DTSTART;TZID=America/Chicago:20240114T190000
DTEND;TZID=America/Chicago:20240114T193000
DTSTAMP:20260422T203858
CREATED:20230926T025850Z
LAST-MODIFIED:20231110T162732Z
UID:1299-1705258800-1705260600@w9src.org
SUMMARY:General Check in Net
DESCRIPTION:146.640 -input PL 107.2
URL:https://w9src.org/event/copy-of-general-check-in-net/
CATEGORIES:Weekly Net
END:VEVENT
BEGIN:VEVENT
DTSTART;TZID=America/Chicago:20240110T190000
DTEND;TZID=America/Chicago:20240110T193000
DTSTAMP:20260422T203858
CREATED:20230929T205239Z
LAST-MODIFIED:20230929T205239Z
UID:1308-1704913200-1704915000@w9src.org
SUMMARY:Skywarn Net
DESCRIPTION:146.640 -input PL 107.2
URL:https://w9src.org/event/skywarn-net-7/
CATEGORIES:Skywarn Net
END:VEVENT
BEGIN:VEVENT
DTSTART;TZID=America/Chicago:20240107T190000
DTEND;TZID=America/Chicago:20240107T193000
DTSTAMP:20260422T203858
CREATED:20230926T025850Z
LAST-MODIFIED:20230926T025850Z
UID:1298-1704654000-1704655800@w9src.org
SUMMARY:General Check in Net
DESCRIPTION:146.640 -input PL 107.2
URL:https://w9src.org/event/general-check-in-net-10/
CATEGORIES:Weekly Net
END:VEVENT
BEGIN:VEVENT
DTSTART;TZID=America/Chicago:20240103T190000
DTEND;TZID=America/Chicago:20240103T193000
DTSTAMP:20260422T203858
CREATED:20230929T205239Z
LAST-MODIFIED:20230929T205239Z
UID:1307-1704308400-1704310200@w9src.org
SUMMARY:Skywarn Net
DESCRIPTION:146.640 -input PL 107.2
URL:https://w9src.org/event/skywarn-net-6/
CATEGORIES:Skywarn Net
END:VEVENT
BEGIN:VEVENT
DTSTART;TZID=America/Chicago:20231231T190000
DTEND;TZID=America/Chicago:20231231T193000
DTSTAMP:20260422T203858
CREATED:20230926T025850Z
LAST-MODIFIED:20230926T025850Z
UID:1329-1704049200-1704051000@w9src.org
SUMMARY:General Check in Net
DESCRIPTION:146.640 -input PL 107.2
URL:https://w9src.org/event/general-check-in-net-23/
CATEGORIES:Weekly Net
END:VEVENT
BEGIN:VEVENT
DTSTART;TZID=America/Chicago:20231227T190000
DTEND;TZID=America/Chicago:20231227T193000
DTSTAMP:20260422T203858
CREATED:20230929T205239Z
LAST-MODIFIED:20230929T205239Z
UID:1335-1703703600-1703705400@w9src.org
SUMMARY:Skywarn Net
DESCRIPTION:146.640 -input PL 107.2
URL:https://w9src.org/event/skywarn-net-18/
CATEGORIES:Skywarn Net
END:VEVENT
END:VCALENDAR