BEGIN:VCALENDAR
VERSION:2.0
PRODID:-//W9SRC - ECPv6.15.20//NONSGML v1.0//EN
CALSCALE:GREGORIAN
METHOD:PUBLISH
X-WR-CALNAME:W9SRC
X-ORIGINAL-URL:https://w9src.org
X-WR-CALDESC:Events for W9SRC
REFRESH-INTERVAL;VALUE=DURATION:PT1H
X-Robots-Tag:noindex
X-PUBLISHED-TTL:PT1H
BEGIN:VTIMEZONE
TZID:America/Chicago
BEGIN:DAYLIGHT
TZOFFSETFROM:-0600
TZOFFSETTO:-0500
TZNAME:CDT
DTSTART:20200308T080000
END:DAYLIGHT
BEGIN:STANDARD
TZOFFSETFROM:-0500
TZOFFSETTO:-0600
TZNAME:CST
DTSTART:20201101T070000
END:STANDARD
BEGIN:DAYLIGHT
TZOFFSETFROM:-0600
TZOFFSETTO:-0500
TZNAME:CDT
DTSTART:20210314T080000
END:DAYLIGHT
BEGIN:STANDARD
TZOFFSETFROM:-0500
TZOFFSETTO:-0600
TZNAME:CST
DTSTART:20211107T070000
END:STANDARD
BEGIN:DAYLIGHT
TZOFFSETFROM:-0600
TZOFFSETTO:-0500
TZNAME:CDT
DTSTART:20220313T080000
END:DAYLIGHT
BEGIN:STANDARD
TZOFFSETFROM:-0500
TZOFFSETTO:-0600
TZNAME:CST
DTSTART:20221106T070000
END:STANDARD
END:VTIMEZONE
BEGIN:VEVENT
DTSTART;TZID=America/Chicago:20211209T193000
DTEND;TZID=America/Chicago:20211209T193000
DTSTAMP:20260420T022128
CREATED:20190319T163113Z
LAST-MODIFIED:20211112T014043Z
UID:638-1639078200-1639078200@w9src.org
SUMMARY:STARS Monthly Meeting
DESCRIPTION:
URL:https://w9src.org/event/stars-monthly-meeting-59/
LOCATION:Beggar’s Pizza\, 15600 S. Cicero Avenue\, Oak Forest\, IL\, 60452\, United States
END:VEVENT
BEGIN:VEVENT
DTSTART;TZID=America/Chicago:20211127T090000
DTEND;TZID=America/Chicago:20211127T090000
DTSTAMP:20260420T022128
CREATED:20190319T163515Z
LAST-MODIFIED:20211101T142925Z
UID:674-1638003600-1638003600@w9src.org
SUMMARY:STARS VE Testing Session
DESCRIPTION:
URL:https://w9src.org/event/stars-ve-testing-session-34/
LOCATION:IL
END:VEVENT
BEGIN:VEVENT
DTSTART;TZID=America/Chicago:20211111T193000
DTEND;TZID=America/Chicago:20211111T193000
DTSTAMP:20260420T022128
CREATED:20190319T163112Z
LAST-MODIFIED:20211101T142851Z
UID:637-1636659000-1636659000@w9src.org
SUMMARY:STARS Monthly Meeting
DESCRIPTION:
URL:https://w9src.org/event/stars-monthly-meeting-58/
LOCATION:Bridgeview Community Center\, 7902 S Oketo Ave\, Bridgeview\, IL\, 60455\, United States
END:VEVENT
BEGIN:VEVENT
DTSTART;TZID=America/Chicago:20211023T090000
DTEND;TZID=America/Chicago:20211023T090000
DTSTAMP:20260420T022128
CREATED:20190319T163515Z
LAST-MODIFIED:20190319T163515Z
UID:673-1634979600-1634979600@w9src.org
SUMMARY:STARS VE Testing Session
DESCRIPTION:
URL:https://w9src.org/event/stars-ve-testing-session-33/
LOCATION:Worth Public Library\, 6917 W 111th St\, Worth\, IL\, 60482\, United States
END:VEVENT
BEGIN:VEVENT
DTSTART;TZID=America/Chicago:20211014T193000
DTEND;TZID=America/Chicago:20211014T193000
DTSTAMP:20260420T022128
CREATED:20190319T163112Z
LAST-MODIFIED:20210921T153949Z
UID:636-1634239800-1634239800@w9src.org
SUMMARY:STARS Monthly Meeting
DESCRIPTION:
URL:https://w9src.org/event/stars-monthly-meeting-57/
LOCATION:Bridgeview Community Center\, 7902 S Oketo Ave\, Bridgeview\, IL\, 60455\, United States
END:VEVENT
BEGIN:VEVENT
DTSTART;TZID=America/Chicago:20210925T090000
DTEND;TZID=America/Chicago:20210925T090000
DTSTAMP:20260420T022128
CREATED:20190319T163514Z
LAST-MODIFIED:20210921T155943Z
UID:672-1632560400-1632560400@w9src.org
SUMMARY:STARS VE Testing Session
DESCRIPTION:
URL:https://w9src.org/event/stars-ve-testing-session-32/
LOCATION:IL
END:VEVENT
BEGIN:VEVENT
DTSTART;TZID=America/Chicago:20210909T193000
DTEND;TZID=America/Chicago:20210909T193000
DTSTAMP:20260420T022128
CREATED:20190319T163112Z
LAST-MODIFIED:20210908T113552Z
UID:635-1631215800-1631215800@w9src.org
SUMMARY:STARS Monthly Meeting
DESCRIPTION:
URL:https://w9src.org/event/stars-monthly-meeting-56/
LOCATION:Del Carmen\, 6922 W 111th St.\, Worth\, IL\, 60482\, United States
END:VEVENT
BEGIN:VEVENT
DTSTART;TZID=America/Chicago:20210828T090000
DTEND;TZID=America/Chicago:20210828T090000
DTSTAMP:20260420T022128
CREATED:20190319T163514Z
LAST-MODIFIED:20210702T212420Z
UID:671-1630141200-1630141200@w9src.org
SUMMARY:STARS VE Testing Session
DESCRIPTION:
URL:https://w9src.org/event/stars-ve-testing-session-31/
LOCATION:IL
END:VEVENT
BEGIN:VEVENT
DTSTART;TZID=America/Chicago:20210812T193000
DTEND;TZID=America/Chicago:20210812T193000
DTSTAMP:20260420T022128
CREATED:20190319T163111Z
LAST-MODIFIED:20210702T212404Z
UID:634-1628796600-1628796600@w9src.org
SUMMARY:STARS Monthly Meeting
DESCRIPTION:
URL:https://w9src.org/event/stars-monthly-meeting-55/
LOCATION:IL
END:VEVENT
BEGIN:VEVENT
DTSTART;TZID=America/Chicago:20210724T090000
DTEND;TZID=America/Chicago:20210724T090000
DTSTAMP:20260420T022128
CREATED:20190319T163514Z
LAST-MODIFIED:20210702T212132Z
UID:670-1627117200-1627117200@w9src.org
SUMMARY:STARS VE Testing Session
DESCRIPTION:
URL:https://w9src.org/event/stars-ve-testing-session-30/
LOCATION:IL
END:VEVENT
BEGIN:VEVENT
DTSTART;TZID=America/Chicago:20210708T193000
DTEND;TZID=America/Chicago:20210708T193000
DTSTAMP:20260420T022128
CREATED:20190319T163111Z
LAST-MODIFIED:20210702T212150Z
UID:633-1625772600-1625772600@w9src.org
SUMMARY:STARS Monthly Meeting
DESCRIPTION:
URL:https://w9src.org/event/stars-monthly-meeting-54/
LOCATION:IL
END:VEVENT
BEGIN:VEVENT
DTSTART;TZID=America/Chicago:20210626T090000
DTEND;TZID=America/Chicago:20210626T090000
DTSTAMP:20260420T022128
CREATED:20190319T163514Z
LAST-MODIFIED:20190319T163514Z
UID:669-1624698000-1624698000@w9src.org
SUMMARY:STARS VE Testing Session
DESCRIPTION:
URL:https://w9src.org/event/stars-ve-testing-session-29/
LOCATION:Worth Public Library\, 6917 W 111th St\, Worth\, IL\, 60482\, United States
END:VEVENT
BEGIN:VEVENT
DTSTART;TZID=America/Chicago:20210626T000000
DTEND;TZID=America/Chicago:20210627T040000
DTSTAMP:20260420T022128
CREATED:20190611T201704Z
LAST-MODIFIED:20190611T201704Z
UID:710-1624665600-1624766400@w9src.org
SUMMARY:Field Day 2021
DESCRIPTION:
URL:https://w9src.org/event/field-day-2021/
LOCATION:Messenger Woods – Hawk Hollow Grove\, 13800 W Bruce Rd\, Homer Glen\, IL\, 60491\, United States
END:VEVENT
END:VCALENDAR