BEGIN:VCALENDAR
VERSION:2.0
PRODID:-//W9SRC - ECPv6.15.20//NONSGML v1.0//EN
CALSCALE:GREGORIAN
METHOD:PUBLISH
X-WR-CALNAME:W9SRC
X-ORIGINAL-URL:https://w9src.org
X-WR-CALDESC:Events for W9SRC
REFRESH-INTERVAL;VALUE=DURATION:PT1H
X-Robots-Tag:noindex
X-PUBLISHED-TTL:PT1H
BEGIN:VTIMEZONE
TZID:America/Chicago
BEGIN:DAYLIGHT
TZOFFSETFROM:-0600
TZOFFSETTO:-0500
TZNAME:CDT
DTSTART:20230312T080000
END:DAYLIGHT
BEGIN:STANDARD
TZOFFSETFROM:-0500
TZOFFSETTO:-0600
TZNAME:CST
DTSTART:20231105T070000
END:STANDARD
BEGIN:DAYLIGHT
TZOFFSETFROM:-0600
TZOFFSETTO:-0500
TZNAME:CDT
DTSTART:20240310T080000
END:DAYLIGHT
BEGIN:STANDARD
TZOFFSETFROM:-0500
TZOFFSETTO:-0600
TZNAME:CST
DTSTART:20241103T070000
END:STANDARD
BEGIN:DAYLIGHT
TZOFFSETFROM:-0600
TZOFFSETTO:-0500
TZNAME:CDT
DTSTART:20250309T080000
END:DAYLIGHT
BEGIN:STANDARD
TZOFFSETFROM:-0500
TZOFFSETTO:-0600
TZNAME:CST
DTSTART:20251102T070000
END:STANDARD
BEGIN:DAYLIGHT
TZOFFSETFROM:-0600
TZOFFSETTO:-0500
TZNAME:CDT
DTSTART:20260308T080000
END:DAYLIGHT
BEGIN:STANDARD
TZOFFSETFROM:-0500
TZOFFSETTO:-0600
TZNAME:CST
DTSTART:20261101T070000
END:STANDARD
END:VTIMEZONE
BEGIN:VEVENT
DTSTART;TZID=America/Chicago:20241124T190000
DTEND;TZID=America/Chicago:20241124T193000
DTSTAMP:20260421T150543
CREATED:20231217T004747Z
LAST-MODIFIED:20231217T004747Z
UID:1438-1732474800-1732476600@w9src.org
SUMMARY:General Check-in Net
DESCRIPTION:
URL:https://w9src.org/event/general-check-in-net-60/
CATEGORIES:Weekly Net
END:VEVENT
BEGIN:VEVENT
DTSTART;TZID=America/Chicago:20241201T190000
DTEND;TZID=America/Chicago:20241201T193000
DTSTAMP:20260421T150543
CREATED:20231217T004747Z
LAST-MODIFIED:20231217T004747Z
UID:1439-1733079600-1733081400@w9src.org
SUMMARY:General Check-in Net
DESCRIPTION:
URL:https://w9src.org/event/general-check-in-net-61/
CATEGORIES:Weekly Net
END:VEVENT
BEGIN:VEVENT
DTSTART;TZID=America/Chicago:20241208T190000
DTEND;TZID=America/Chicago:20241208T193000
DTSTAMP:20260421T150543
CREATED:20231217T004747Z
LAST-MODIFIED:20231217T004747Z
UID:1440-1733684400-1733686200@w9src.org
SUMMARY:General Check-in Net
DESCRIPTION:
URL:https://w9src.org/event/general-check-in-net-62/
CATEGORIES:Weekly Net
END:VEVENT
BEGIN:VEVENT
DTSTART;TZID=America/Chicago:20241215T190000
DTEND;TZID=America/Chicago:20241215T193000
DTSTAMP:20260421T150543
CREATED:20231217T004747Z
LAST-MODIFIED:20231217T004747Z
UID:1442-1734289200-1734291000@w9src.org
SUMMARY:General Check-in Net
DESCRIPTION:
URL:https://w9src.org/event/general-check-in-net-64/
CATEGORIES:Weekly Net
END:VEVENT
BEGIN:VEVENT
DTSTART;TZID=America/Chicago:20241222T190000
DTEND;TZID=America/Chicago:20241222T193000
DTSTAMP:20260421T150543
CREATED:20231217T004747Z
LAST-MODIFIED:20241207T025635Z
UID:1441-1734894000-1734895800@w9src.org
SUMMARY:General Check-in Net
DESCRIPTION:146.640 -input PL 107.2
URL:https://w9src.org/event/general-check-in-net-63/
CATEGORIES:Weekly Net
END:VEVENT
BEGIN:VEVENT
DTSTART;TZID=America/Chicago:20250105T190000
DTEND;TZID=America/Chicago:20250105T190000
DTSTAMP:20260421T150543
CREATED:20231217T004747Z
LAST-MODIFIED:20241207T025236Z
UID:1620-1736103600-1736103600@w9src.org
SUMMARY:General Check-in Net
DESCRIPTION:146.640 -input PL 107.2
URL:https://w9src.org/event/general-check-in-net-66/
CATEGORIES:Weekly Net
END:VEVENT
BEGIN:VEVENT
DTSTART;TZID=America/Chicago:20250112T190000
DTEND;TZID=America/Chicago:20250112T190000
DTSTAMP:20260421T150543
CREATED:20231217T004747Z
LAST-MODIFIED:20241207T031543Z
UID:1621-1736708400-1736708400@w9src.org
SUMMARY:General Check-in Net
DESCRIPTION:146.640 -input PL 107.2
URL:https://w9src.org/event/general-check-in-net-67/
CATEGORIES:Weekly Net
END:VEVENT
BEGIN:VEVENT
DTSTART;TZID=America/Chicago:20250119T190000
DTEND;TZID=America/Chicago:20250119T190000
DTSTAMP:20260421T150543
CREATED:20231217T004747Z
LAST-MODIFIED:20241207T031645Z
UID:1622-1737313200-1737313200@w9src.org
SUMMARY:General Check-in Net
DESCRIPTION:146.640 -input PL 107.2
URL:https://w9src.org/event/general-check-in-net-68/
CATEGORIES:Weekly Net
END:VEVENT
BEGIN:VEVENT
DTSTART;TZID=America/Chicago:20250126T190000
DTEND;TZID=America/Chicago:20250126T190000
DTSTAMP:20260421T150543
CREATED:20231217T004747Z
LAST-MODIFIED:20241207T025157Z
UID:1623-1737918000-1737918000@w9src.org
SUMMARY:General Check-in Net
DESCRIPTION:146.640 -input PL 107.2
URL:https://w9src.org/event/general-check-in-net-69/
CATEGORIES:Weekly Net
END:VEVENT
BEGIN:VEVENT
DTSTART;TZID=America/Chicago:20250202T190000
DTEND;TZID=America/Chicago:20250202T190000
DTSTAMP:20260421T150543
CREATED:20241207T010047Z
LAST-MODIFIED:20241207T033959Z
UID:1637-1738522800-1738522800@w9src.org
SUMMARY:General Check-in Net
DESCRIPTION:146.640 -input PL 107.2
URL:https://w9src.org/event/general-check-in-net-72/
CATEGORIES:Weekly Net
END:VEVENT
BEGIN:VEVENT
DTSTART;TZID=America/Chicago:20250209T193000
DTEND;TZID=America/Chicago:20250209T193000
DTSTAMP:20260421T150543
CREATED:20231217T004747Z
LAST-MODIFIED:20241207T031858Z
UID:1627-1739129400-1739129400@w9src.org
SUMMARY:General Check-in Net
DESCRIPTION:146.640 -input PL 107.2
URL:https://w9src.org/event/general-check-in-net-70/
CATEGORIES:Weekly Net
END:VEVENT
BEGIN:VEVENT
DTSTART;TZID=America/Chicago:20250216T190000
DTEND;TZID=America/Chicago:20250216T190000
DTSTAMP:20260421T150543
CREATED:20241206T210047Z
LAST-MODIFIED:20241207T025035Z
UID:1638-1739732400-1739732400@w9src.org
SUMMARY:General Check-in Net
DESCRIPTION:146.640 -input PL 107.2
URL:https://w9src.org/event/general-check-in-net-73/
CATEGORIES:Weekly Net
END:VEVENT
BEGIN:VEVENT
DTSTART;TZID=America/Chicago:20250223T190000
DTEND;TZID=America/Chicago:20250223T190000
DTSTAMP:20260421T150543
CREATED:20241206T210047Z
LAST-MODIFIED:20241207T031753Z
UID:1639-1740337200-1740337200@w9src.org
SUMMARY:General Check-in Net
DESCRIPTION:146.640 -input PL 107.2
URL:https://w9src.org/event/general-check-in-net-74/
CATEGORIES:Weekly Net
END:VEVENT
BEGIN:VEVENT
DTSTART;TZID=America/Chicago:20250302T190000
DTEND;TZID=America/Chicago:20250302T190000
DTSTAMP:20260421T150543
CREATED:20241206T210047Z
LAST-MODIFIED:20241207T024820Z
UID:1642-1740942000-1740942000@w9src.org
SUMMARY:General Check-in Net
DESCRIPTION:146.640 -input PL 107.2
URL:https://w9src.org/event/general-check-in-net-75/
CATEGORIES:Weekly Net
END:VEVENT
BEGIN:VEVENT
DTSTART;TZID=America/Chicago:20250309T190000
DTEND;TZID=America/Chicago:20250309T190000
DTSTAMP:20260421T150543
CREATED:20241206T210047Z
LAST-MODIFIED:20241207T024752Z
UID:1643-1741546800-1741546800@w9src.org
SUMMARY:General Check-in Net
DESCRIPTION:146.640 -input PL 107.2
URL:https://w9src.org/event/general-check-in-net-76/
CATEGORIES:Weekly Net
END:VEVENT
BEGIN:VEVENT
DTSTART;TZID=America/Chicago:20250316T190000
DTEND;TZID=America/Chicago:20250316T190000
DTSTAMP:20260421T150543
CREATED:20241206T210047Z
LAST-MODIFIED:20241207T024717Z
UID:1644-1742151600-1742151600@w9src.org
SUMMARY:General Check-in Net
DESCRIPTION:146.640 -input PL 107.2
URL:https://w9src.org/event/general-check-in-net-77/
CATEGORIES:Weekly Net
END:VEVENT
BEGIN:VEVENT
DTSTART;TZID=America/Chicago:20250323T190000
DTEND;TZID=America/Chicago:20250323T190000
DTSTAMP:20260421T150543
CREATED:20241206T210047Z
LAST-MODIFIED:20241206T210047Z
UID:1662-1742756400-1742756400@w9src.org
SUMMARY:General Check-in Net
DESCRIPTION:146.640 -input PL 107.2
URL:https://w9src.org/event/general-check-in-net-65/
CATEGORIES:Weekly Net
END:VEVENT
BEGIN:VEVENT
DTSTART;TZID=America/Chicago:20250330T190000
DTEND;TZID=America/Chicago:20250330T190000
DTSTAMP:20260421T150543
CREATED:20241206T210047Z
LAST-MODIFIED:20241206T210047Z
UID:1663-1743361200-1743361200@w9src.org
SUMMARY:General Check-in Net
DESCRIPTION:146.640 -input PL 107.2
URL:https://w9src.org/event/general-check-in-net-78/
CATEGORIES:Weekly Net
END:VEVENT
BEGIN:VEVENT
DTSTART;TZID=America/Chicago:20250406T190000
DTEND;TZID=America/Chicago:20250406T190000
DTSTAMP:20260421T150543
CREATED:20241206T210047Z
LAST-MODIFIED:20241206T210047Z
UID:1711-1743966000-1743966000@w9src.org
SUMMARY:General Check-in Net
DESCRIPTION:146.640 -input PL 107.2
URL:https://w9src.org/event/general-check-in-net-71/
CATEGORIES:Weekly Net
END:VEVENT
BEGIN:VEVENT
DTSTART;TZID=America/Chicago:20250413T190000
DTEND;TZID=America/Chicago:20250413T190000
DTSTAMP:20260421T150543
CREATED:20241206T210047Z
LAST-MODIFIED:20241206T210047Z
UID:1712-1744570800-1744570800@w9src.org
SUMMARY:General Check-in Net
DESCRIPTION:146.640 -input PL 107.2
URL:https://w9src.org/event/general-check-in-net-79/
CATEGORIES:Weekly Net
END:VEVENT
BEGIN:VEVENT
DTSTART;TZID=America/Chicago:20250420T190000
DTEND;TZID=America/Chicago:20250420T190000
DTSTAMP:20260421T150543
CREATED:20241206T210047Z
LAST-MODIFIED:20241206T210047Z
UID:1713-1745175600-1745175600@w9src.org
SUMMARY:General Check-in Net
DESCRIPTION:146.640 -input PL 107.2
URL:https://w9src.org/event/general-check-in-net-80/
CATEGORIES:Weekly Net
END:VEVENT
BEGIN:VEVENT
DTSTART;TZID=America/Chicago:20250427T190000
DTEND;TZID=America/Chicago:20250427T190000
DTSTAMP:20260421T150543
CREATED:20241206T210047Z
LAST-MODIFIED:20241206T210047Z
UID:1714-1745780400-1745780400@w9src.org
SUMMARY:General Check-in Net
DESCRIPTION:146.640 -input PL 107.2
URL:https://w9src.org/event/general-check-in-net-81/
CATEGORIES:Weekly Net
END:VEVENT
BEGIN:VEVENT
DTSTART;TZID=America/Chicago:20250504T190000
DTEND;TZID=America/Chicago:20250504T190000
DTSTAMP:20260421T150543
CREATED:20241206T210047Z
LAST-MODIFIED:20241206T210047Z
UID:1724-1746385200-1746385200@w9src.org
SUMMARY:General Check-in Net
DESCRIPTION:146.640 -input PL 107.2
URL:https://w9src.org/event/general-check-in-net-82/
CATEGORIES:Weekly Net
END:VEVENT
BEGIN:VEVENT
DTSTART;TZID=America/Chicago:20250511T190000
DTEND;TZID=America/Chicago:20250511T190000
DTSTAMP:20260421T150543
CREATED:20241206T210047Z
LAST-MODIFIED:20241206T210047Z
UID:1725-1746990000-1746990000@w9src.org
SUMMARY:General Check-in Net
DESCRIPTION:146.640 -input PL 107.2
URL:https://w9src.org/event/general-check-in-net-83/
CATEGORIES:Weekly Net
END:VEVENT
BEGIN:VEVENT
DTSTART;TZID=America/Chicago:20250518T190000
DTEND;TZID=America/Chicago:20250518T190000
DTSTAMP:20260421T150543
CREATED:20241206T210047Z
LAST-MODIFIED:20241206T210047Z
UID:1726-1747594800-1747594800@w9src.org
SUMMARY:General Check-in Net
DESCRIPTION:146.640 -input PL 107.2
URL:https://w9src.org/event/general-check-in-net-84/
CATEGORIES:Weekly Net
END:VEVENT
BEGIN:VEVENT
DTSTART;TZID=America/Chicago:20250525T190000
DTEND;TZID=America/Chicago:20250525T190000
DTSTAMP:20260421T150543
CREATED:20241206T210047Z
LAST-MODIFIED:20241206T210047Z
UID:1727-1748199600-1748199600@w9src.org
SUMMARY:General Check-in Net
DESCRIPTION:146.640 -input PL 107.2
URL:https://w9src.org/event/general-check-in-net-85/
CATEGORIES:Weekly Net
END:VEVENT
BEGIN:VEVENT
DTSTART;TZID=America/Chicago:20250601T190000
DTEND;TZID=America/Chicago:20250601T190000
DTSTAMP:20260421T150543
CREATED:20241206T210047Z
LAST-MODIFIED:20241206T210047Z
UID:1788-1748804400-1748804400@w9src.org
SUMMARY:General Check-in Net
DESCRIPTION:146.640 -input PL 107.2
URL:https://w9src.org/event/general-check-in-net-86/
CATEGORIES:Weekly Net
END:VEVENT
BEGIN:VEVENT
DTSTART;TZID=America/Chicago:20250608T190000
DTEND;TZID=America/Chicago:20250608T190000
DTSTAMP:20260421T150543
CREATED:20241206T210047Z
LAST-MODIFIED:20241206T210047Z
UID:1789-1749409200-1749409200@w9src.org
SUMMARY:General Check-in Net
DESCRIPTION:146.640 -input PL 107.2
URL:https://w9src.org/event/general-check-in-net-87/
CATEGORIES:Weekly Net
END:VEVENT
BEGIN:VEVENT
DTSTART;TZID=America/Chicago:20250615T190000
DTEND;TZID=America/Chicago:20250615T190000
DTSTAMP:20260421T150543
CREATED:20241206T210047Z
LAST-MODIFIED:20241206T210047Z
UID:1790-1750014000-1750014000@w9src.org
SUMMARY:General Check-in Net
DESCRIPTION:146.640 -input PL 107.2
URL:https://w9src.org/event/general-check-in-net-88/
CATEGORIES:Weekly Net
END:VEVENT
BEGIN:VEVENT
DTSTART;TZID=America/Chicago:20250622T190000
DTEND;TZID=America/Chicago:20250622T190000
DTSTAMP:20260421T150543
CREATED:20241206T210047Z
LAST-MODIFIED:20241206T210047Z
UID:1791-1750618800-1750618800@w9src.org
SUMMARY:General Check-in Net
DESCRIPTION:146.640 -input PL 107.2
URL:https://w9src.org/event/general-check-in-net-89/
CATEGORIES:Weekly Net
END:VEVENT
END:VCALENDAR