BEGIN:VCALENDAR
VERSION:2.0
PRODID:-//W9SRC - ECPv6.15.20//NONSGML v1.0//EN
CALSCALE:GREGORIAN
METHOD:PUBLISH
X-ORIGINAL-URL:https://w9src.org
X-WR-CALDESC:Events for W9SRC
REFRESH-INTERVAL;VALUE=DURATION:PT1H
X-Robots-Tag:noindex
X-PUBLISHED-TTL:PT1H
BEGIN:VTIMEZONE
TZID:America/Chicago
BEGIN:DAYLIGHT
TZOFFSETFROM:-0600
TZOFFSETTO:-0500
TZNAME:CDT
DTSTART:20240310T080000
END:DAYLIGHT
BEGIN:STANDARD
TZOFFSETFROM:-0500
TZOFFSETTO:-0600
TZNAME:CST
DTSTART:20241103T070000
END:STANDARD
BEGIN:DAYLIGHT
TZOFFSETFROM:-0600
TZOFFSETTO:-0500
TZNAME:CDT
DTSTART:20250309T080000
END:DAYLIGHT
BEGIN:STANDARD
TZOFFSETFROM:-0500
TZOFFSETTO:-0600
TZNAME:CST
DTSTART:20251102T070000
END:STANDARD
BEGIN:DAYLIGHT
TZOFFSETFROM:-0600
TZOFFSETTO:-0500
TZNAME:CDT
DTSTART:20260308T080000
END:DAYLIGHT
BEGIN:STANDARD
TZOFFSETFROM:-0500
TZOFFSETTO:-0600
TZNAME:CST
DTSTART:20261101T070000
END:STANDARD
BEGIN:DAYLIGHT
TZOFFSETFROM:-0600
TZOFFSETTO:-0500
TZNAME:CDT
DTSTART:20270314T080000
END:DAYLIGHT
BEGIN:STANDARD
TZOFFSETFROM:-0500
TZOFFSETTO:-0600
TZNAME:CST
DTSTART:20271107T070000
END:STANDARD
END:VTIMEZONE
BEGIN:VEVENT
DTSTART;TZID=America/Chicago:20250615T190000
DTEND;TZID=America/Chicago:20250615T190000
DTSTAMP:20260419T174200
CREATED:20241206T210047Z
LAST-MODIFIED:20241206T210047Z
UID:1790-1750014000-1750014000@w9src.org
SUMMARY:General Check-in Net
DESCRIPTION:146.640 -input PL 107.2
URL:https://w9src.org/event/general-check-in-net-88/
CATEGORIES:Weekly Net
END:VEVENT
BEGIN:VEVENT
DTSTART;TZID=America/Chicago:20250622T190000
DTEND;TZID=America/Chicago:20250622T190000
DTSTAMP:20260419T174200
CREATED:20241206T210047Z
LAST-MODIFIED:20241206T210047Z
UID:1791-1750618800-1750618800@w9src.org
SUMMARY:General Check-in Net
DESCRIPTION:146.640 -input PL 107.2
URL:https://w9src.org/event/general-check-in-net-89/
CATEGORIES:Weekly Net
END:VEVENT
BEGIN:VEVENT
DTSTART;TZID=America/Chicago:20250706T190000
DTEND;TZID=America/Chicago:20250706T190000
DTSTAMP:20260419T174200
CREATED:20241206T210047Z
LAST-MODIFIED:20241206T210047Z
UID:1848-1751828400-1751828400@w9src.org
SUMMARY:General Check-in Net
DESCRIPTION:146.640 -input PL 107.2
URL:https://w9src.org/event/general-check-in-net-90/
CATEGORIES:Weekly Net
END:VEVENT
BEGIN:VEVENT
DTSTART;TZID=America/Chicago:20250713T190000
DTEND;TZID=America/Chicago:20250713T190000
DTSTAMP:20260419T174200
CREATED:20241206T210047Z
LAST-MODIFIED:20241206T210047Z
UID:1849-1752433200-1752433200@w9src.org
SUMMARY:General Check-in Net
DESCRIPTION:146.640 -input PL 107.2
URL:https://w9src.org/event/general-check-in-net-91/
CATEGORIES:Weekly Net
END:VEVENT
BEGIN:VEVENT
DTSTART;TZID=America/Chicago:20250720T190000
DTEND;TZID=America/Chicago:20250720T190000
DTSTAMP:20260419T174200
CREATED:20241206T210047Z
LAST-MODIFIED:20241206T210047Z
UID:1850-1753038000-1753038000@w9src.org
SUMMARY:General Check-in Net
DESCRIPTION:146.640 -input PL 107.2
URL:https://w9src.org/event/general-check-in-net-92/
CATEGORIES:Weekly Net
END:VEVENT
BEGIN:VEVENT
DTSTART;TZID=America/Chicago:20250727T190000
DTEND;TZID=America/Chicago:20250727T190000
DTSTAMP:20260419T174200
CREATED:20241206T210047Z
LAST-MODIFIED:20241206T210047Z
UID:1851-1753642800-1753642800@w9src.org
SUMMARY:General Check-in Net
DESCRIPTION:146.640 -input PL 107.2
URL:https://w9src.org/event/general-check-in-net-93/
CATEGORIES:Weekly Net
END:VEVENT
BEGIN:VEVENT
DTSTART;TZID=America/Chicago:20250803T190000
DTEND;TZID=America/Chicago:20250803T190000
DTSTAMP:20260419T174200
CREATED:20241206T210047Z
LAST-MODIFIED:20241206T210047Z
UID:1860-1754247600-1754247600@w9src.org
SUMMARY:General Check-in Net
DESCRIPTION:146.640 -input PL 107.2
URL:https://w9src.org/event/general-check-in-net-94/
CATEGORIES:Weekly Net
END:VEVENT
BEGIN:VEVENT
DTSTART;TZID=America/Chicago:20250810T190000
DTEND;TZID=America/Chicago:20250810T190000
DTSTAMP:20260419T174200
CREATED:20241206T210047Z
LAST-MODIFIED:20241206T210047Z
UID:1861-1754852400-1754852400@w9src.org
SUMMARY:General Check-in Net
DESCRIPTION:146.640 -input PL 107.2
URL:https://w9src.org/event/general-check-in-net-95/
CATEGORIES:Weekly Net
END:VEVENT
BEGIN:VEVENT
DTSTART;TZID=America/Chicago:20250817T190000
DTEND;TZID=America/Chicago:20250817T190000
DTSTAMP:20260419T174200
CREATED:20241206T210047Z
LAST-MODIFIED:20241206T210047Z
UID:1862-1755457200-1755457200@w9src.org
SUMMARY:General Check-in Net
DESCRIPTION:146.640 -input PL 107.2
URL:https://w9src.org/event/general-check-in-net-96/
CATEGORIES:Weekly Net
END:VEVENT
BEGIN:VEVENT
DTSTART;TZID=America/Chicago:20250824T190000
DTEND;TZID=America/Chicago:20250824T190000
DTSTAMP:20260419T174200
CREATED:20241206T210047Z
LAST-MODIFIED:20241206T210047Z
UID:1863-1756062000-1756062000@w9src.org
SUMMARY:General Check-in Net
DESCRIPTION:146.640 -input PL 107.2
URL:https://w9src.org/event/general-check-in-net-97/
CATEGORIES:Weekly Net
END:VEVENT
BEGIN:VEVENT
DTSTART;TZID=America/Chicago:20250831T190000
DTEND;TZID=America/Chicago:20250831T190000
DTSTAMP:20260419T174200
CREATED:20241206T210047Z
LAST-MODIFIED:20241206T210047Z
UID:1864-1756666800-1756666800@w9src.org
SUMMARY:General Check-in Net
DESCRIPTION:146.640 -input PL 107.2
URL:https://w9src.org/event/general-check-in-net-98/
CATEGORIES:Weekly Net
END:VEVENT
BEGIN:VEVENT
DTSTART;TZID=America/Chicago:20250907T190000
DTEND;TZID=America/Chicago:20250907T190000
DTSTAMP:20260419T174200
CREATED:20241206T210047Z
LAST-MODIFIED:20241206T210047Z
UID:1902-1757271600-1757271600@w9src.org
SUMMARY:General Check-in Net
DESCRIPTION:146.640 -input PL 107.2
URL:https://w9src.org/event/general-check-in-net-102/
CATEGORIES:Weekly Net
END:VEVENT
BEGIN:VEVENT
DTSTART;TZID=America/Chicago:20250914T190000
DTEND;TZID=America/Chicago:20250914T190000
DTSTAMP:20260419T174200
CREATED:20241206T210047Z
LAST-MODIFIED:20241206T210047Z
UID:1896-1757876400-1757876400@w9src.org
SUMMARY:General Check-in Net
DESCRIPTION:146.640 -input PL 107.2
URL:https://w9src.org/event/general-check-in-net-101/
CATEGORIES:Weekly Net
END:VEVENT
BEGIN:VEVENT
DTSTART;TZID=America/Chicago:20250921T190000
DTEND;TZID=America/Chicago:20250921T190000
DTSTAMP:20260419T174200
CREATED:20241206T210047Z
LAST-MODIFIED:20241206T210047Z
UID:1900-1758481200-1758481200@w9src.org
SUMMARY:General Check-in Net
DESCRIPTION:146.640 -input PL 107.2
URL:https://w9src.org/event/general-check-in-net-99/
CATEGORIES:Weekly Net
END:VEVENT
BEGIN:VEVENT
DTSTART;TZID=America/Chicago:20250928T190000
DTEND;TZID=America/Chicago:20250928T190000
DTSTAMP:20260419T174200
CREATED:20241206T210047Z
LAST-MODIFIED:20241206T210047Z
UID:1901-1759086000-1759086000@w9src.org
SUMMARY:General Check-in Net
DESCRIPTION:146.640 -input PL 107.2
URL:https://w9src.org/event/general-check-in-net-100/
CATEGORIES:Weekly Net
END:VEVENT
BEGIN:VEVENT
DTSTART;TZID=America/Chicago:20251005T190000
DTEND;TZID=America/Chicago:20251005T190000
DTSTAMP:20260419T174200
CREATED:20241206T210047Z
LAST-MODIFIED:20241206T210047Z
UID:1924-1759690800-1759690800@w9src.org
SUMMARY:General Check-in Net
DESCRIPTION:146.640 -input PL 107.2
URL:https://w9src.org/event/general-check-in-net-103/
CATEGORIES:Weekly Net
END:VEVENT
BEGIN:VEVENT
DTSTART;TZID=America/Chicago:20251012T190000
DTEND;TZID=America/Chicago:20251012T190000
DTSTAMP:20260419T174200
CREATED:20241206T210047Z
LAST-MODIFIED:20241206T210047Z
UID:1925-1760295600-1760295600@w9src.org
SUMMARY:General Check-in Net
DESCRIPTION:146.640 -input PL 107.2
URL:https://w9src.org/event/general-check-in-net-104/
CATEGORIES:Weekly Net
END:VEVENT
BEGIN:VEVENT
DTSTART;TZID=America/Chicago:20251019T190000
DTEND;TZID=America/Chicago:20251019T190000
DTSTAMP:20260419T174200
CREATED:20241206T210047Z
LAST-MODIFIED:20241206T210047Z
UID:1926-1760900400-1760900400@w9src.org
SUMMARY:General Check-in Net
DESCRIPTION:146.640 -input PL 107.2
URL:https://w9src.org/event/general-check-in-net-105/
CATEGORIES:Weekly Net
END:VEVENT
BEGIN:VEVENT
DTSTART;TZID=America/Chicago:20251026T190000
DTEND;TZID=America/Chicago:20251026T190000
DTSTAMP:20260419T174200
CREATED:20241206T210047Z
LAST-MODIFIED:20241206T210047Z
UID:1927-1761505200-1761505200@w9src.org
SUMMARY:General Check-in Net
DESCRIPTION:146.640 -input PL 107.2
URL:https://w9src.org/event/general-check-in-net-106/
CATEGORIES:Weekly Net
END:VEVENT
BEGIN:VEVENT
DTSTART;TZID=America/Chicago:20251102T190000
DTEND;TZID=America/Chicago:20251102T190000
DTSTAMP:20260419T174200
CREATED:20241206T210047Z
LAST-MODIFIED:20241206T210047Z
UID:1931-1762110000-1762110000@w9src.org
SUMMARY:General Check-in Net
DESCRIPTION:146.640 -input PL 107.2
URL:https://w9src.org/event/general-check-in-net-110/
CATEGORIES:Weekly Net
END:VEVENT
BEGIN:VEVENT
DTSTART;TZID=America/Chicago:20251109T190000
DTEND;TZID=America/Chicago:20251109T190000
DTSTAMP:20260419T174200
CREATED:20241206T210047Z
LAST-MODIFIED:20241206T210047Z
UID:1930-1762714800-1762714800@w9src.org
SUMMARY:General Check-in Net
DESCRIPTION:146.640 -input PL 107.2
URL:https://w9src.org/event/general-check-in-net-109/
CATEGORIES:Weekly Net
END:VEVENT
BEGIN:VEVENT
DTSTART;TZID=America/Chicago:20251116T190000
DTEND;TZID=America/Chicago:20251116T190000
DTSTAMP:20260419T174200
CREATED:20241206T210047Z
LAST-MODIFIED:20241206T210047Z
UID:1929-1763319600-1763319600@w9src.org
SUMMARY:General Check-in Net
DESCRIPTION:146.640 -input PL 107.2
URL:https://w9src.org/event/general-check-in-net-108/
CATEGORIES:Weekly Net
END:VEVENT
BEGIN:VEVENT
DTSTART;TZID=America/Chicago:20251123T190000
DTEND;TZID=America/Chicago:20251123T190000
DTSTAMP:20260419T174200
CREATED:20241206T210047Z
LAST-MODIFIED:20241206T210047Z
UID:1928-1763924400-1763924400@w9src.org
SUMMARY:General Check-in Net
DESCRIPTION:146.640 -input PL 107.2
URL:https://w9src.org/event/general-check-in-net-107/
CATEGORIES:Weekly Net
END:VEVENT
BEGIN:VEVENT
DTSTART;TZID=America/Chicago:20251130T190000
DTEND;TZID=America/Chicago:20251130T190000
DTSTAMP:20260419T174200
CREATED:20241206T210047Z
LAST-MODIFIED:20241206T210047Z
UID:1932-1764529200-1764529200@w9src.org
SUMMARY:General Check-in Net
DESCRIPTION:146.640 -input PL 107.2
URL:https://w9src.org/event/general-check-in-net-111/
CATEGORIES:Weekly Net
END:VEVENT
BEGIN:VEVENT
DTSTART;TZID=America/Chicago:20251207T190000
DTEND;TZID=America/Chicago:20251207T190000
DTSTAMP:20260419T174200
CREATED:20241206T210047Z
LAST-MODIFIED:20241206T210047Z
UID:1936-1765134000-1765134000@w9src.org
SUMMARY:General Check-in Net
DESCRIPTION:146.640 -input PL 107.2
URL:https://w9src.org/event/general-check-in-net-115/
CATEGORIES:Weekly Net
END:VEVENT
BEGIN:VEVENT
DTSTART;TZID=America/Chicago:20251214T190000
DTEND;TZID=America/Chicago:20251214T190000
DTSTAMP:20260419T174200
CREATED:20241206T210047Z
LAST-MODIFIED:20241206T210047Z
UID:1935-1765738800-1765738800@w9src.org
SUMMARY:General Check-in Net
DESCRIPTION:146.640 -input PL 107.2
URL:https://w9src.org/event/general-check-in-net-114/
CATEGORIES:Weekly Net
END:VEVENT
BEGIN:VEVENT
DTSTART;TZID=America/Chicago:20251221T190000
DTEND;TZID=America/Chicago:20251221T190000
DTSTAMP:20260419T174200
CREATED:20241206T210047Z
LAST-MODIFIED:20241206T210047Z
UID:1934-1766343600-1766343600@w9src.org
SUMMARY:General Check-in Net
DESCRIPTION:146.640 -input PL 107.2
URL:https://w9src.org/event/general-check-in-net-113/
CATEGORIES:Weekly Net
END:VEVENT
BEGIN:VEVENT
DTSTART;TZID=America/Chicago:20251228T190000
DTEND;TZID=America/Chicago:20251228T190000
DTSTAMP:20260419T174200
CREATED:20241206T210047Z
LAST-MODIFIED:20241206T210047Z
UID:1933-1766948400-1766948400@w9src.org
SUMMARY:General Check-in Net
DESCRIPTION:146.640 -input PL 107.2
URL:https://w9src.org/event/general-check-in-net-112/
CATEGORIES:Weekly Net
END:VEVENT
BEGIN:VEVENT
DTSTART;TZID=America/Chicago:20260104T190000
DTEND;TZID=America/Chicago:20260104T190000
DTSTAMP:20260419T174200
CREATED:20241206T210047Z
LAST-MODIFIED:20241206T210047Z
UID:1972-1767553200-1767553200@w9src.org
SUMMARY:General Check-in Net
DESCRIPTION:146.640 -input PL 107.2
URL:https://w9src.org/event/general-check-in-net-119/
CATEGORIES:Weekly Net
END:VEVENT
BEGIN:VEVENT
DTSTART;TZID=America/Chicago:20260111T190000
DTEND;TZID=America/Chicago:20260111T190000
DTSTAMP:20260419T174200
CREATED:20241206T210047Z
LAST-MODIFIED:20241206T210047Z
UID:1971-1768158000-1768158000@w9src.org
SUMMARY:General Check-in Net
DESCRIPTION:146.640 -input PL 107.2
URL:https://w9src.org/event/general-check-in-net-118/
CATEGORIES:Weekly Net
END:VEVENT
END:VCALENDAR