BEGIN:VCALENDAR
VERSION:2.0
PRODID:-//W9SRC - ECPv6.15.20//NONSGML v1.0//EN
CALSCALE:GREGORIAN
METHOD:PUBLISH
X-ORIGINAL-URL:https://w9src.org
X-WR-CALDESC:Events for W9SRC
REFRESH-INTERVAL;VALUE=DURATION:PT1H
X-Robots-Tag:noindex
X-PUBLISHED-TTL:PT1H
BEGIN:VTIMEZONE
TZID:America/Chicago
BEGIN:DAYLIGHT
TZOFFSETFROM:-0600
TZOFFSETTO:-0500
TZNAME:CDT
DTSTART:20240310T080000
END:DAYLIGHT
BEGIN:STANDARD
TZOFFSETFROM:-0500
TZOFFSETTO:-0600
TZNAME:CST
DTSTART:20241103T070000
END:STANDARD
BEGIN:DAYLIGHT
TZOFFSETFROM:-0600
TZOFFSETTO:-0500
TZNAME:CDT
DTSTART:20250309T080000
END:DAYLIGHT
BEGIN:STANDARD
TZOFFSETFROM:-0500
TZOFFSETTO:-0600
TZNAME:CST
DTSTART:20251102T070000
END:STANDARD
BEGIN:DAYLIGHT
TZOFFSETFROM:-0600
TZOFFSETTO:-0500
TZNAME:CDT
DTSTART:20260308T080000
END:DAYLIGHT
BEGIN:STANDARD
TZOFFSETFROM:-0500
TZOFFSETTO:-0600
TZNAME:CST
DTSTART:20261101T070000
END:STANDARD
BEGIN:DAYLIGHT
TZOFFSETFROM:-0600
TZOFFSETTO:-0500
TZNAME:CDT
DTSTART:20270314T080000
END:DAYLIGHT
BEGIN:STANDARD
TZOFFSETFROM:-0500
TZOFFSETTO:-0600
TZNAME:CST
DTSTART:20271107T070000
END:STANDARD
END:VTIMEZONE
BEGIN:VEVENT
DTSTART;TZID=America/Chicago:20250820T190000
DTEND;TZID=America/Chicago:20250820T193000
DTSTAMP:20260419T185934
CREATED:20241204T220546Z
LAST-MODIFIED:20250630T162551Z
UID:1853-1755716400-1755718200@w9src.org
SUMMARY:Skywarn Net
DESCRIPTION:146.640 -input PL 107.2
URL:https://w9src.org/event/skywarn-net-75/
CATEGORIES:Skywarn Net
END:VEVENT
BEGIN:VEVENT
DTSTART;TZID=America/Chicago:20250827T190000
DTEND;TZID=America/Chicago:20250827T193000
DTSTAMP:20260419T185934
CREATED:20241204T220546Z
LAST-MODIFIED:20250630T162439Z
UID:1855-1756321200-1756323000@w9src.org
SUMMARY:Skywarn Net
DESCRIPTION:146.640 -input PL 107.2
URL:https://w9src.org/event/skywarn-net-77/
CATEGORIES:Skywarn Net
END:VEVENT
BEGIN:VEVENT
DTSTART;TZID=America/Chicago:20250903T190000
DTEND;TZID=America/Chicago:20250903T193000
DTSTAMP:20260419T185934
CREATED:20241204T220546Z
LAST-MODIFIED:20241204T220546Z
UID:1903-1756926000-1756927800@w9src.org
SUMMARY:Skywarn Net
DESCRIPTION:146.640 -input PL 107.2
URL:https://w9src.org/event/skywarn-net-79/
CATEGORIES:Skywarn Net
END:VEVENT
BEGIN:VEVENT
DTSTART;TZID=America/Chicago:20250910T190000
DTEND;TZID=America/Chicago:20250910T193000
DTSTAMP:20260419T185934
CREATED:20241204T220546Z
LAST-MODIFIED:20241204T220546Z
UID:1904-1757530800-1757532600@w9src.org
SUMMARY:Skywarn Net
DESCRIPTION:146.640 -input PL 107.2
URL:https://w9src.org/event/skywarn-net-80/
CATEGORIES:Skywarn Net
END:VEVENT
BEGIN:VEVENT
DTSTART;TZID=America/Chicago:20250917T190000
DTEND;TZID=America/Chicago:20250917T193000
DTSTAMP:20260419T185934
CREATED:20241204T220546Z
LAST-MODIFIED:20241204T220546Z
UID:1905-1758135600-1758137400@w9src.org
SUMMARY:Skywarn Net
DESCRIPTION:146.640 -input PL 107.2
URL:https://w9src.org/event/skywarn-net-81/
CATEGORIES:Skywarn Net
END:VEVENT
BEGIN:VEVENT
DTSTART;TZID=America/Chicago:20250924T190000
DTEND;TZID=America/Chicago:20250924T193000
DTSTAMP:20260419T185934
CREATED:20241204T220546Z
LAST-MODIFIED:20241204T220546Z
UID:1906-1758740400-1758742200@w9src.org
SUMMARY:Skywarn Net
DESCRIPTION:146.640 -input PL 107.2
URL:https://w9src.org/event/skywarn-net-82/
CATEGORIES:Skywarn Net
END:VEVENT
BEGIN:VEVENT
DTSTART;TZID=America/Chicago:20251001T190000
DTEND;TZID=America/Chicago:20251001T193000
DTSTAMP:20260419T185934
CREATED:20241204T220546Z
LAST-MODIFIED:20241204T220546Z
UID:1907-1759345200-1759347000@w9src.org
SUMMARY:Skywarn Net
DESCRIPTION:146.640 -input PL 107.2
URL:https://w9src.org/event/skywarn-net-83/
CATEGORIES:Skywarn Net
END:VEVENT
BEGIN:VEVENT
DTSTART;TZID=America/Chicago:20251008T190000
DTEND;TZID=America/Chicago:20251008T193000
DTSTAMP:20260419T185934
CREATED:20241204T220546Z
LAST-MODIFIED:20241204T220546Z
UID:1920-1759950000-1759951800@w9src.org
SUMMARY:Skywarn Net
DESCRIPTION:146.640 -input PL 107.2
URL:https://w9src.org/event/skywarn-net-93/
CATEGORIES:Skywarn Net
END:VEVENT
BEGIN:VEVENT
DTSTART;TZID=America/Chicago:20251015T190000
DTEND;TZID=America/Chicago:20251015T193000
DTSTAMP:20260419T185934
CREATED:20241204T220546Z
LAST-MODIFIED:20241204T220546Z
UID:1921-1760554800-1760556600@w9src.org
SUMMARY:Skywarn Net
DESCRIPTION:146.640 -input PL 107.2
URL:https://w9src.org/event/skywarn-net-94/
CATEGORIES:Skywarn Net
END:VEVENT
BEGIN:VEVENT
DTSTART;TZID=America/Chicago:20251022T190000
DTEND;TZID=America/Chicago:20251022T193000
DTSTAMP:20260419T185934
CREATED:20241204T220546Z
LAST-MODIFIED:20241204T220546Z
UID:1923-1761159600-1761161400@w9src.org
SUMMARY:Skywarn Net
DESCRIPTION:146.640 -input PL 107.2
URL:https://w9src.org/event/skywarn-net-96/
CATEGORIES:Skywarn Net
END:VEVENT
BEGIN:VEVENT
DTSTART;TZID=America/Chicago:20251029T190000
DTEND;TZID=America/Chicago:20251029T193000
DTSTAMP:20260419T185934
CREATED:20241204T220546Z
LAST-MODIFIED:20241204T220546Z
UID:1922-1761764400-1761766200@w9src.org
SUMMARY:Skywarn Net
DESCRIPTION:146.640 -input PL 107.2
URL:https://w9src.org/event/skywarn-net-95/
CATEGORIES:Skywarn Net
END:VEVENT
BEGIN:VEVENT
DTSTART;TZID=America/Chicago:20251105T190000
DTEND;TZID=America/Chicago:20251105T193000
DTSTAMP:20260419T185934
CREATED:20241204T220546Z
LAST-MODIFIED:20241204T220546Z
UID:1911-1762369200-1762371000@w9src.org
SUMMARY:Skywarn Net
DESCRIPTION:146.640 -input PL 107.2
URL:https://w9src.org/event/skywarn-net-84/
CATEGORIES:Skywarn Net
END:VEVENT
BEGIN:VEVENT
DTSTART;TZID=America/Chicago:20251112T190000
DTEND;TZID=America/Chicago:20251112T193000
DTSTAMP:20260419T185934
CREATED:20241204T220546Z
LAST-MODIFIED:20241204T220546Z
UID:1912-1762974000-1762975800@w9src.org
SUMMARY:Skywarn Net
DESCRIPTION:146.640 -input PL 107.2
URL:https://w9src.org/event/skywarn-net-85/
CATEGORIES:Skywarn Net
END:VEVENT
BEGIN:VEVENT
DTSTART;TZID=America/Chicago:20251119T190000
DTEND;TZID=America/Chicago:20251119T193000
DTSTAMP:20260419T185934
CREATED:20241204T220546Z
LAST-MODIFIED:20241204T220546Z
UID:1913-1763578800-1763580600@w9src.org
SUMMARY:Skywarn Net
DESCRIPTION:146.640 -input PL 107.2
URL:https://w9src.org/event/skywarn-net-86/
CATEGORIES:Skywarn Net
END:VEVENT
BEGIN:VEVENT
DTSTART;TZID=America/Chicago:20251126T190000
DTEND;TZID=America/Chicago:20251126T193000
DTSTAMP:20260419T185934
CREATED:20241204T220546Z
LAST-MODIFIED:20241204T220546Z
UID:1914-1764183600-1764185400@w9src.org
SUMMARY:Skywarn Net
DESCRIPTION:146.640 -input PL 107.2
URL:https://w9src.org/event/skywarn-net-87/
CATEGORIES:Skywarn Net
END:VEVENT
BEGIN:VEVENT
DTSTART;TZID=America/Chicago:20251203T190000
DTEND;TZID=America/Chicago:20251203T193000
DTSTAMP:20260419T185934
CREATED:20241204T220546Z
LAST-MODIFIED:20241204T220546Z
UID:1915-1764788400-1764790200@w9src.org
SUMMARY:Skywarn Net
DESCRIPTION:146.640 -input PL 107.2
URL:https://w9src.org/event/skywarn-net-88/
CATEGORIES:Skywarn Net
END:VEVENT
BEGIN:VEVENT
DTSTART;TZID=America/Chicago:20251210T190000
DTEND;TZID=America/Chicago:20251210T193000
DTSTAMP:20260419T185934
CREATED:20241204T220546Z
LAST-MODIFIED:20241204T220546Z
UID:1916-1765393200-1765395000@w9src.org
SUMMARY:Skywarn Net
DESCRIPTION:146.640 -input PL 107.2
URL:https://w9src.org/event/skywarn-net-89/
CATEGORIES:Skywarn Net
END:VEVENT
BEGIN:VEVENT
DTSTART;TZID=America/Chicago:20251217T190000
DTEND;TZID=America/Chicago:20251217T193000
DTSTAMP:20260419T185934
CREATED:20241204T220546Z
LAST-MODIFIED:20241204T220546Z
UID:1917-1765998000-1765999800@w9src.org
SUMMARY:Skywarn Net
DESCRIPTION:146.640 -input PL 107.2
URL:https://w9src.org/event/skywarn-net-90/
CATEGORIES:Skywarn Net
END:VEVENT
BEGIN:VEVENT
DTSTART;TZID=America/Chicago:20251224T190000
DTEND;TZID=America/Chicago:20251224T193000
DTSTAMP:20260419T185934
CREATED:20241204T220546Z
LAST-MODIFIED:20241204T220546Z
UID:1918-1766602800-1766604600@w9src.org
SUMMARY:Skywarn Net
DESCRIPTION:146.640 -input PL 107.2
URL:https://w9src.org/event/skywarn-net-91/
CATEGORIES:Skywarn Net
END:VEVENT
BEGIN:VEVENT
DTSTART;TZID=America/Chicago:20251231T190000
DTEND;TZID=America/Chicago:20251231T193000
DTSTAMP:20260419T185934
CREATED:20241204T220546Z
LAST-MODIFIED:20241204T220546Z
UID:1919-1767207600-1767209400@w9src.org
SUMMARY:Skywarn Net
DESCRIPTION:146.640 -input PL 107.2
URL:https://w9src.org/event/skywarn-net-92/
CATEGORIES:Skywarn Net
END:VEVENT
BEGIN:VEVENT
DTSTART;TZID=America/Chicago:20260107T190000
DTEND;TZID=America/Chicago:20260107T193000
DTSTAMP:20260419T185934
CREATED:20241204T220546Z
LAST-MODIFIED:20241204T220546Z
UID:1968-1767812400-1767814200@w9src.org
SUMMARY:Skywarn Net
DESCRIPTION:146.640 -input PL 107.2
URL:https://w9src.org/event/skywarn-net-100/
CATEGORIES:Skywarn Net
END:VEVENT
BEGIN:VEVENT
DTSTART;TZID=America/Chicago:20260114T190000
DTEND;TZID=America/Chicago:20260114T193000
DTSTAMP:20260419T185934
CREATED:20241204T220546Z
LAST-MODIFIED:20241204T220546Z
UID:1967-1768417200-1768419000@w9src.org
SUMMARY:Skywarn Net
DESCRIPTION:146.640 -input PL 107.2
URL:https://w9src.org/event/skywarn-net-99/
CATEGORIES:Skywarn Net
END:VEVENT
BEGIN:VEVENT
DTSTART;TZID=America/Chicago:20260121T190000
DTEND;TZID=America/Chicago:20260121T193000
DTSTAMP:20260419T185934
CREATED:20241204T220546Z
LAST-MODIFIED:20241204T220546Z
UID:1966-1769022000-1769023800@w9src.org
SUMMARY:Skywarn Net
DESCRIPTION:146.640 -input PL 107.2
URL:https://w9src.org/event/skywarn-net-98/
CATEGORIES:Skywarn Net
END:VEVENT
BEGIN:VEVENT
DTSTART;TZID=America/Chicago:20260128T190000
DTEND;TZID=America/Chicago:20260128T193000
DTSTAMP:20260419T185934
CREATED:20241204T220546Z
LAST-MODIFIED:20241204T220546Z
UID:1965-1769626800-1769628600@w9src.org
SUMMARY:Skywarn Net
DESCRIPTION:146.640 -input PL 107.2
URL:https://w9src.org/event/skywarn-net-97/
CATEGORIES:Skywarn Net
END:VEVENT
BEGIN:VEVENT
DTSTART;TZID=America/Chicago:20260204T190000
DTEND;TZID=America/Chicago:20260204T193000
DTSTAMP:20260419T185934
CREATED:20241204T220546Z
LAST-MODIFIED:20241204T220546Z
UID:1980-1770231600-1770233400@w9src.org
SUMMARY:Skywarn Net
DESCRIPTION:146.640 -input PL 107.2
URL:https://w9src.org/event/skywarn-net-102/
CATEGORIES:Skywarn Net
END:VEVENT
BEGIN:VEVENT
DTSTART;TZID=America/Chicago:20260211T190000
DTEND;TZID=America/Chicago:20260211T193000
DTSTAMP:20260419T185934
CREATED:20241204T220546Z
LAST-MODIFIED:20241204T220546Z
UID:1979-1770836400-1770838200@w9src.org
SUMMARY:Skywarn Net
DESCRIPTION:146.640 -input PL 107.2
URL:https://w9src.org/event/skywarn-net-101/
CATEGORIES:Skywarn Net
END:VEVENT
BEGIN:VEVENT
DTSTART;TZID=America/Chicago:20260218T190000
DTEND;TZID=America/Chicago:20260218T193000
DTSTAMP:20260419T185934
CREATED:20241204T220546Z
LAST-MODIFIED:20241204T220546Z
UID:1981-1771441200-1771443000@w9src.org
SUMMARY:Skywarn Net
DESCRIPTION:146.640 -input PL 107.2
URL:https://w9src.org/event/skywarn-net-103/
CATEGORIES:Skywarn Net
END:VEVENT
BEGIN:VEVENT
DTSTART;TZID=America/Chicago:20260225T190000
DTEND;TZID=America/Chicago:20260225T193000
DTSTAMP:20260419T185934
CREATED:20241204T220546Z
LAST-MODIFIED:20241204T220546Z
UID:1982-1772046000-1772047800@w9src.org
SUMMARY:Skywarn Net
DESCRIPTION:146.640 -input PL 107.2
URL:https://w9src.org/event/skywarn-net-104/
CATEGORIES:Skywarn Net
END:VEVENT
BEGIN:VEVENT
DTSTART;TZID=America/Chicago:20260304T190000
DTEND;TZID=America/Chicago:20260304T193000
DTSTAMP:20260419T185934
CREATED:20241204T220546Z
LAST-MODIFIED:20241204T220546Z
UID:1996-1772650800-1772652600@w9src.org
SUMMARY:Skywarn Net
DESCRIPTION:146.640 -input PL 107.2
URL:https://w9src.org/event/skywarn-net-108/
CATEGORIES:Skywarn Net
END:VEVENT
BEGIN:VEVENT
DTSTART;TZID=America/Chicago:20260311T190000
DTEND;TZID=America/Chicago:20260311T193000
DTSTAMP:20260419T185934
CREATED:20241204T220546Z
LAST-MODIFIED:20241204T220546Z
UID:1995-1773255600-1773257400@w9src.org
SUMMARY:Skywarn Net
DESCRIPTION:146.640 -input PL 107.2
URL:https://w9src.org/event/skywarn-net-107/
CATEGORIES:Skywarn Net
END:VEVENT
END:VCALENDAR