BEGIN:VCALENDAR
VERSION:2.0
PRODID:-//W9SRC - ECPv6.15.20//NONSGML v1.0//EN
CALSCALE:GREGORIAN
METHOD:PUBLISH
X-ORIGINAL-URL:https://w9src.org
X-WR-CALDESC:Events for W9SRC
REFRESH-INTERVAL;VALUE=DURATION:PT1H
X-Robots-Tag:noindex
X-PUBLISHED-TTL:PT1H
BEGIN:VTIMEZONE
TZID:America/Chicago
BEGIN:DAYLIGHT
TZOFFSETFROM:-0600
TZOFFSETTO:-0500
TZNAME:CDT
DTSTART:20230312T080000
END:DAYLIGHT
BEGIN:STANDARD
TZOFFSETFROM:-0500
TZOFFSETTO:-0600
TZNAME:CST
DTSTART:20231105T070000
END:STANDARD
BEGIN:DAYLIGHT
TZOFFSETFROM:-0600
TZOFFSETTO:-0500
TZNAME:CDT
DTSTART:20240310T080000
END:DAYLIGHT
BEGIN:STANDARD
TZOFFSETFROM:-0500
TZOFFSETTO:-0600
TZNAME:CST
DTSTART:20241103T070000
END:STANDARD
BEGIN:DAYLIGHT
TZOFFSETFROM:-0600
TZOFFSETTO:-0500
TZNAME:CDT
DTSTART:20250309T080000
END:DAYLIGHT
BEGIN:STANDARD
TZOFFSETFROM:-0500
TZOFFSETTO:-0600
TZNAME:CST
DTSTART:20251102T070000
END:STANDARD
END:VTIMEZONE
BEGIN:VEVENT
DTSTART;TZID=America/Chicago:20240501T190000
DTEND;TZID=America/Chicago:20240501T193000
DTSTAMP:20260422T054243
CREATED:20230929T205239Z
LAST-MODIFIED:20230929T205239Z
UID:1380-1714590000-1714591800@w9src.org
SUMMARY:Skywarn Net
DESCRIPTION:146.640 -input PL 107.2
URL:https://w9src.org/event/skywarn-net-24/
CATEGORIES:Skywarn Net
END:VEVENT
BEGIN:VEVENT
DTSTART;TZID=America/Chicago:20240508T190000
DTEND;TZID=America/Chicago:20240508T193000
DTSTAMP:20260422T054243
CREATED:20230929T205239Z
LAST-MODIFIED:20230929T205239Z
UID:1381-1715194800-1715196600@w9src.org
SUMMARY:Skywarn Net
DESCRIPTION:146.640 -input PL 107.2
URL:https://w9src.org/event/skywarn-net-25/
CATEGORIES:Skywarn Net
END:VEVENT
BEGIN:VEVENT
DTSTART;TZID=America/Chicago:20240515T190000
DTEND;TZID=America/Chicago:20240515T193000
DTSTAMP:20260422T054243
CREATED:20230929T205239Z
LAST-MODIFIED:20230929T205239Z
UID:1390-1715799600-1715801400@w9src.org
SUMMARY:Skywarn Net
DESCRIPTION:146.640 -input PL 107.2
URL:https://w9src.org/event/skywarn-net-29/
CATEGORIES:Skywarn Net
END:VEVENT
BEGIN:VEVENT
DTSTART;TZID=America/Chicago:20240522T190000
DTEND;TZID=America/Chicago:20240522T193000
DTSTAMP:20260422T054243
CREATED:20230929T205239Z
LAST-MODIFIED:20231225T222751Z
UID:1398-1716404400-1716406200@w9src.org
SUMMARY:Skywarn Net
DESCRIPTION:146.640 -input PL 107.2
URL:https://w9src.org/event/copy-of-skywarn-net-3/
CATEGORIES:Skywarn Net
END:VEVENT
BEGIN:VEVENT
DTSTART;TZID=America/Chicago:20240529T190000
DTEND;TZID=America/Chicago:20240529T193000
DTSTAMP:20260422T054243
CREATED:20230929T205239Z
LAST-MODIFIED:20230929T205239Z
UID:1382-1717009200-1717011000@w9src.org
SUMMARY:Skywarn Net
DESCRIPTION:146.640 -input PL 107.2
URL:https://w9src.org/event/skywarn-net-26/
CATEGORIES:Skywarn Net
END:VEVENT
END:VCALENDAR