BEGIN:VCALENDAR
VERSION:2.0
PRODID:-//W9SRC - ECPv6.15.20//NONSGML v1.0//EN
CALSCALE:GREGORIAN
METHOD:PUBLISH
X-WR-CALNAME:W9SRC
X-ORIGINAL-URL:https://w9src.org
X-WR-CALDESC:Events for W9SRC
REFRESH-INTERVAL;VALUE=DURATION:PT1H
X-Robots-Tag:noindex
X-PUBLISHED-TTL:PT1H
BEGIN:VTIMEZONE
TZID:America/Chicago
BEGIN:DAYLIGHT
TZOFFSETFROM:-0600
TZOFFSETTO:-0500
TZNAME:CDT
DTSTART:20220313T080000
END:DAYLIGHT
BEGIN:STANDARD
TZOFFSETFROM:-0500
TZOFFSETTO:-0600
TZNAME:CST
DTSTART:20221106T070000
END:STANDARD
BEGIN:DAYLIGHT
TZOFFSETFROM:-0600
TZOFFSETTO:-0500
TZNAME:CDT
DTSTART:20230312T080000
END:DAYLIGHT
BEGIN:STANDARD
TZOFFSETFROM:-0500
TZOFFSETTO:-0600
TZNAME:CST
DTSTART:20231105T070000
END:STANDARD
BEGIN:DAYLIGHT
TZOFFSETFROM:-0600
TZOFFSETTO:-0500
TZNAME:CDT
DTSTART:20240310T080000
END:DAYLIGHT
BEGIN:STANDARD
TZOFFSETFROM:-0500
TZOFFSETTO:-0600
TZNAME:CST
DTSTART:20241103T070000
END:STANDARD
END:VTIMEZONE
BEGIN:VEVENT
DTSTART;TZID=America/Chicago:20231206T190000
DTEND;TZID=America/Chicago:20231206T193000
DTSTAMP:20260422T133304
CREATED:20230929T205239Z
LAST-MODIFIED:20230930T013430Z
UID:1171-1701889200-1701891000@w9src.org
SUMMARY:Skywarn Net
DESCRIPTION:146.640 -input PL 107.2
URL:https://w9src.org/event/skywarn-net-5/
CATEGORIES:Skywarn Net
END:VEVENT
BEGIN:VEVENT
DTSTART;TZID=America/Chicago:20231213T190000
DTEND;TZID=America/Chicago:20231213T193000
DTSTAMP:20260422T133304
CREATED:20230929T205239Z
LAST-MODIFIED:20230930T012812Z
UID:1169-1702494000-1702495800@w9src.org
SUMMARY:Skywarn Net
DESCRIPTION:146.640 -input PL 107.2
URL:https://w9src.org/event/skywarn-net-4/
CATEGORIES:Skywarn Net
END:VEVENT
BEGIN:VEVENT
DTSTART;TZID=America/Chicago:20231220T190000
DTEND;TZID=America/Chicago:20231220T193000
DTSTAMP:20260422T133304
CREATED:20230929T205239Z
LAST-MODIFIED:20230929T205239Z
UID:1336-1703098800-1703100600@w9src.org
SUMMARY:Skywarn Net
DESCRIPTION:146.640 -input PL 107.2
URL:https://w9src.org/event/skywarn-net-19/
CATEGORIES:Skywarn Net
END:VEVENT
BEGIN:VEVENT
DTSTART;TZID=America/Chicago:20231227T190000
DTEND;TZID=America/Chicago:20231227T193000
DTSTAMP:20260422T133304
CREATED:20230929T205239Z
LAST-MODIFIED:20230929T205239Z
UID:1335-1703703600-1703705400@w9src.org
SUMMARY:Skywarn Net
DESCRIPTION:146.640 -input PL 107.2
URL:https://w9src.org/event/skywarn-net-18/
CATEGORIES:Skywarn Net
END:VEVENT
END:VCALENDAR